BEGIN:VCALENDAR
VERSION:2.0
PRODID:-//Cercle celtique de Rennes - ECPv6.13.2.1//NONSGML v1.0//EN
CALSCALE:GREGORIAN
METHOD:PUBLISH
X-WR-CALNAME:Cercle celtique de Rennes
X-ORIGINAL-URL:https://www.cercleceltiquederennes.org
X-WR-CALDESC:Évènements pour Cercle celtique de Rennes
REFRESH-INTERVAL;VALUE=DURATION:PT1H
X-Robots-Tag:noindex
X-PUBLISHED-TTL:PT1H
BEGIN:VTIMEZONE
TZID:Europe/Paris
BEGIN:DAYLIGHT
TZOFFSETFROM:+0100
TZOFFSETTO:+0200
TZNAME:CEST
DTSTART:20240331T010000
END:DAYLIGHT
BEGIN:STANDARD
TZOFFSETFROM:+0200
TZOFFSETTO:+0100
TZNAME:CET
DTSTART:20241027T010000
END:STANDARD
END:VTIMEZONE
BEGIN:VEVENT
DTSTART;TZID=Europe/Paris:20240305T173000
DTEND;TZID=Europe/Paris:20240305T190000
DTSTAMP:20260423T045729
CREATED:20240219T103217Z
LAST-MODIFIED:20240219T103219Z
UID:10000128-1709659800-1709665200@www.cercleceltiquederennes.org
SUMMARY:Vernissage de l'exposition : une nuit au parquet de bal.
DESCRIPTION:Photographe bien connu sur le pays rennais\, Jean-Maurice Colombel nous livre ses clichés captés lors de soirées au Parquet de bal. Lieu : Maison Saint Cyr\, 59 rue Papu\, 35000 RENNES
URL:https://www.cercleceltiquederennes.org/event/vernissage-de-lexposition-une-nuit-au-parquet-de-bal/
CATEGORIES:Exposition
ATTACH;FMTTYPE=image/jpeg:https://www.cercleceltiquederennes.org/wp-content/uploads/2024/02/parquetde-bal.jpg
END:VEVENT
BEGIN:VEVENT
DTSTART;TZID=Europe/Paris:20240307T183000
DTEND;TZID=Europe/Paris:20240307T200000
DTSTAMP:20260423T045729
CREATED:20240219T102803Z
LAST-MODIFIED:20240219T102805Z
UID:10000127-1709836200-1709841600@www.cercleceltiquederennes.org
SUMMARY:VERNISSAGE DE L'EXPOSITION : BUZUDEL\, AU BOUT DU MONDE UNE ÉTINCELLE
DESCRIPTION:“la photographe Jérômine Derigny présente un récit documentaire et intime\, sur le rapport de la famille Jouini à Buzudel\, ce hameau du Finistère choisi par Houssine\, alors venu de Tunisie.” Lieu : Centre social de Cleunay\, 49 Rue Jules Lallemand\, 35000 Rennes.
URL:https://www.cercleceltiquederennes.org/event/vernissage-de-lexposition-buzudel-au-bout-du-monde-une-etincelle/
CATEGORIES:Exposition
ATTACH;FMTTYPE=image/jpeg:https://www.cercleceltiquederennes.org/wp-content/uploads/2024/02/expo-buzudel.jpg
END:VEVENT
BEGIN:VEVENT
DTSTART;TZID=Europe/Paris:20240312T173000
DTEND;TZID=Europe/Paris:20240312T183000
DTSTAMP:20260423T045729
CREATED:20240219T102042Z
LAST-MODIFIED:20240219T102045Z
UID:10000126-1710264600-1710268200@www.cercleceltiquederennes.org
SUMMARY:VISITE GUIDÉE CHANTÉE DE L’EXPOSITION PERMANENTE - Musée de Bretagne
DESCRIPTION:Visite guidée\, tantôt contée\, tantôt chantée sur le thème de la nuit. La nuit comme fil conducteur\, du lit-clos\, aux affiches de fest- noz \, des lavandières à la chemise de nuit. Renseignements : museedebretagne@leschampslibres.fr
URL:https://www.cercleceltiquederennes.org/event/visite-guidee-chantee-de-lexposition-permanente-musee-de-bretagne/
CATEGORIES:Exposition
ATTACH;FMTTYPE=image/jpeg:https://www.cercleceltiquederennes.org/wp-content/uploads/2024/02/musee-de-bretagne.jpg
END:VEVENT
END:VCALENDAR