BEGIN:VCALENDAR
VERSION:2.0
PRODID:-//Cercle celtique de Rennes - ECPv6.13.2.1//NONSGML v1.0//EN
CALSCALE:GREGORIAN
METHOD:PUBLISH
X-WR-CALNAME:Cercle celtique de Rennes
X-ORIGINAL-URL:https://www.cercleceltiquederennes.org
X-WR-CALDESC:Évènements pour Cercle celtique de Rennes
REFRESH-INTERVAL;VALUE=DURATION:PT1H
X-Robots-Tag:noindex
X-PUBLISHED-TTL:PT1H
BEGIN:VTIMEZONE
TZID:Europe/Paris
BEGIN:DAYLIGHT
TZOFFSETFROM:+0100
TZOFFSETTO:+0200
TZNAME:CEST
DTSTART:20230326T010000
END:DAYLIGHT
BEGIN:STANDARD
TZOFFSETFROM:+0200
TZOFFSETTO:+0100
TZNAME:CET
DTSTART:20231029T010000
END:STANDARD
END:VTIMEZONE
BEGIN:VEVENT
DTSTART;TZID=Europe/Paris:20230426T080000
DTEND;TZID=Europe/Paris:20230426T170000
DTSTAMP:20260423T231618
CREATED:20230410T182829Z
LAST-MODIFIED:20230414T212045Z
UID:10000003-1682496000-1682528400@www.cercleceltiquederennes.org
SUMMARY:Exposition matrimoniale
DESCRIPTION:Sed ut perspiciatis unde omnis iste natus error sit voluptatem accusantium doloremque laudantium\, totam rem aperiam\, eaque ipsa quae ab illo inventore veritatis et quasi architecto beatae vitae dicta sunt explicabo. Nemo enim ipsam voluptatem quia voluptas sit aspernatur aut odit aut fugit\,
URL:https://www.cercleceltiquederennes.org/event/exposition-matrimoniale/
LOCATION:La halle Martinot\, place des lices\, rennes\, 35000\, France
CATEGORIES:Exposition
END:VEVENT
END:VCALENDAR