BEGIN:VCALENDAR
VERSION:2.0
PRODID:-//Cercle celtique de Rennes - ECPv6.13.2.1//NONSGML v1.0//EN
CALSCALE:GREGORIAN
METHOD:PUBLISH
X-ORIGINAL-URL:https://www.cercleceltiquederennes.org
X-WR-CALDESC:Évènements pour Cercle celtique de Rennes
REFRESH-INTERVAL;VALUE=DURATION:PT1H
X-Robots-Tag:noindex
X-PUBLISHED-TTL:PT1H
BEGIN:VTIMEZONE
TZID:Europe/Paris
BEGIN:DAYLIGHT
TZOFFSETFROM:+0100
TZOFFSETTO:+0200
TZNAME:CEST
DTSTART:20240331T010000
END:DAYLIGHT
BEGIN:STANDARD
TZOFFSETFROM:+0200
TZOFFSETTO:+0100
TZNAME:CET
DTSTART:20241027T010000
END:STANDARD
END:VTIMEZONE
BEGIN:VEVENT
DTSTART;TZID=Europe/Paris:20240307T183000
DTEND;TZID=Europe/Paris:20240307T200000
DTSTAMP:20260423T063258
CREATED:20240219T102803Z
LAST-MODIFIED:20240219T102805Z
UID:10000127-1709836200-1709841600@www.cercleceltiquederennes.org
SUMMARY:VERNISSAGE DE L'EXPOSITION : BUZUDEL\, AU BOUT DU MONDE UNE ÉTINCELLE
DESCRIPTION:“la photographe Jérômine Derigny présente un récit documentaire et intime\, sur le rapport de la famille Jouini à Buzudel\, ce hameau du Finistère choisi par Houssine\, alors venu de Tunisie.” Lieu : Centre social de Cleunay\, 49 Rue Jules Lallemand\, 35000 Rennes.
URL:https://www.cercleceltiquederennes.org/event/vernissage-de-lexposition-buzudel-au-bout-du-monde-une-etincelle/
CATEGORIES:Exposition
ATTACH;FMTTYPE=image/jpeg:https://www.cercleceltiquederennes.org/wp-content/uploads/2024/02/expo-buzudel.jpg
END:VEVENT
END:VCALENDAR