BEGIN:VCALENDAR
VERSION:2.0
PRODID:-//Cercle celtique de Rennes - ECPv6.13.2.1//NONSGML v1.0//EN
CALSCALE:GREGORIAN
METHOD:PUBLISH
X-ORIGINAL-URL:https://www.cercleceltiquederennes.org
X-WR-CALDESC:Évènements pour Cercle celtique de Rennes
REFRESH-INTERVAL;VALUE=DURATION:PT1H
X-Robots-Tag:noindex
X-PUBLISHED-TTL:PT1H
BEGIN:VTIMEZONE
TZID:Europe/Paris
BEGIN:DAYLIGHT
TZOFFSETFROM:+0100
TZOFFSETTO:+0200
TZNAME:CEST
DTSTART:20250330T010000
END:DAYLIGHT
BEGIN:STANDARD
TZOFFSETFROM:+0200
TZOFFSETTO:+0100
TZNAME:CET
DTSTART:20251026T010000
END:STANDARD
END:VTIMEZONE
BEGIN:VEVENT
DTSTART;TZID=Europe/Paris:20250219T080000
DTEND;TZID=Europe/Paris:20250309T233000
DTSTAMP:20260422T131512
CREATED:20250121T115805Z
LAST-MODIFIED:20250203T091314Z
UID:10000201-1739952000-1741563000@www.cercleceltiquederennes.org
SUMMARY:Sevenadur
DESCRIPTION:Sevenadur revient du 19 février au 9 mars 2025 pour sa 26ème édition !17 jours de festival qui vont mettre en lumière LE LIEN ! \n\n\n\n\n\n\n\nLe lien fait partie intégrante de notre société\, qu’il soit familial\, culturel\, littéraire\, social\, il nous relie\, il est un besoin\, et nous invite à se rapprocher les uns des autres.  \n\n\n\nC’est dans cet esprit que nous fêterons les 25 ans du temps fort de notre association\, le festival Sevenadur !  \n\n\n\nSevenadur c’est une véritable fabrique de lien : festive\, chaleureuse et multiculturelle\, qui vise à mettre en avant le matrimoine ainsi que le patrimoine culturel immatériel. Une énergie partagée auprès d’un large public grâce à l’implication d’une trentaine de partenaires et l’investissement de ses soutiens\, sponsors qui contribuent à la réussite de ce festival qui rayonne sur le pays rennais. \n\n\n\nVéritable chaudron où se mélange diverses activités culturelles\, cette année Sevenadur aura le plaisir de revenir avec des fest-noz et des fest-deiz\, des rencontres interculturelles; des stages : chant\, musique\, broderie\, des conférences\, soirées collectage\, veillées\, et des propositions innovantes et créatrices : Le projet Triskel\, des déambulations du Breizh Bazar Jâze\, des bals sauvages… Pour le plaisir de tous ! \n\n\n\nAlors retrouvez nous dans des salles de spectacle\, des musées\, les rues de Rennes\, des salles de conférence\, les locaux de nos partenaires\,… de la ville de Rennes mais aussi dans différentes villes de la métropole rennaise. \n\n\n\nRetrouvez toute la programmation du festival sur le site Sevenadur : https://www.sevenadur.org/2025/.
URL:https://www.cercleceltiquederennes.org/event/sevenadur/
CATEGORIES:Bal interculturel,Bal trad,Balade,Concert,Conférence,Contes,Exposition,Fest diez,Fest noz,Langues,Parquet de bal,Pour les enfants,Sevenadur,Stage
ATTACH;FMTTYPE=image/jpeg:https://www.cercleceltiquederennes.org/wp-content/uploads/2025/01/affiche-A3-sevenadur-2025-scaled.jpg
END:VEVENT
END:VCALENDAR