BEGIN:VCALENDAR
VERSION:2.0
PRODID:-//Cercle celtique de Rennes - ECPv6.13.2.1//NONSGML v1.0//EN
CALSCALE:GREGORIAN
METHOD:PUBLISH
X-WR-CALNAME:Cercle celtique de Rennes
X-ORIGINAL-URL:https://www.cercleceltiquederennes.org
X-WR-CALDESC:Évènements pour Cercle celtique de Rennes
REFRESH-INTERVAL;VALUE=DURATION:PT1H
X-Robots-Tag:noindex
X-PUBLISHED-TTL:PT1H
BEGIN:VTIMEZONE
TZID:Europe/Paris
BEGIN:DAYLIGHT
TZOFFSETFROM:+0100
TZOFFSETTO:+0200
TZNAME:CEST
DTSTART:20250330T010000
END:DAYLIGHT
BEGIN:STANDARD
TZOFFSETFROM:+0200
TZOFFSETTO:+0100
TZNAME:CET
DTSTART:20251026T010000
END:STANDARD
END:VTIMEZONE
BEGIN:VEVENT
DTSTART;TZID=Europe/Paris:20250920T140000
DTEND;TZID=Europe/Paris:20250921T180000
DTSTAMP:20260422T034117
CREATED:20250826T091139Z
LAST-MODIFIED:20250904T092236Z
UID:10000279-1758376800-1758477600@www.cercleceltiquederennes.org
SUMMARY:Journées Européennes du Matrimoine et du Patrimoine à l'Écomusée
DESCRIPTION:Envie d’en apprendre davantage sur les cultures du quartier du Blosne et de Bretagne ?  \n\n\n\nVenez découvrir les langues de Bretagne et du quartier du Blosne ! Au menu de cet événement : dégustations\, balades chantées\, cafés des langues\, visites flash\, projections…  \n\n\n\nAvec l’Écomusée de la Bintinais\, Avenir\, le Cercle celtique de Rennes\, Dastum\, la Cinémathèque de Bretagne et Langophonies. \n\n\n\n\nAu programme : \n\n\n\n Visites flash en gallo et en breton Spectacle famille « Cette nuit\, une chouette m’a dit » de Morgane Le Cuff\, suivi d’un atelier d’initiation au gallo Séance de Yoga en breton Atelier d’initiation au breton Atelier « Tourne ta crêpe sur un billig » Animation musicale en breton Stand de jeux et collectage de mots Temps de lecture « sous l’arbre » : comorien\, espagnol\, arabe Quizz des langues Concert 45 minutes avec Batia : chants en arabe\, hébreu\, lingala\, langue de l’est européen\, anglais. Exposition « Le Gallo\, la langue romane de Bretagne »Visites en LSF \n\n\n\n\n Plus de détails à venir avec de nombreuses autres animations \n\n\n\n\n\n\n\n\n\n\nÉvénement à l’Écomusée de la Bintinais\n\n\n\n\n\n\n\n\n\n\n\n\nAccès à l’Écomusée de la Bintinais\n\n\n\nL’Écomusée de la Bintinais est accessible :  🚌 en bus ligne 61 – arrêt Hil / Bintinais  à pied en 15min depuis la station de métro Triangle (ligne A) \n\n\n\n  en vélo avec la piste cyclable matérialisée depuis Rennes et Noyal. \n\n\n\nAdresse précise : Ferme de la Bintinais – Route de Châtillon-sur-Seiche\, 35200 Rennes \n\n\n\n\n\n\n\n	\n		Écomusée de la Bintinais\, Route de Châtillon-sur-Seiche\, Noyal-sur-Seiche\, Noyal-Châtillon-sur-Seiche\, Rennes\, Ille-et-Vilaine\, Bretagne\, France métropolitaine\, 35200\, France\n	\n\n\n\n\n\n\n\n\n\n\n\nÉcomusée de la Bintinais\, avec le Cercle Celtique de Rennes\, Avenir\, Dastum\, la Cinémathèque de Bretagne et Langophonies. \n\n\n\n\n\n\n\n\n\n\nÉvénement Facebook
URL:https://www.cercleceltiquederennes.org/event/journees-europeennes-du-matrimoine-et-du-patrimoine/
CATEGORIES:Conférence,Exposition,Langues
ATTACH;FMTTYPE=image/jpeg:https://www.cercleceltiquederennes.org/wp-content/uploads/2025/08/JEMP_banquet_des_langues_11zon-scaled-1.jpg
END:VEVENT
END:VCALENDAR