BEGIN:VCALENDAR
VERSION:2.0
PRODID:-//Cercle celtique de Rennes - ECPv6.13.2.1//NONSGML v1.0//EN
CALSCALE:GREGORIAN
METHOD:PUBLISH
X-WR-CALNAME:Cercle celtique de Rennes
X-ORIGINAL-URL:https://www.cercleceltiquederennes.org
X-WR-CALDESC:Évènements pour Cercle celtique de Rennes
REFRESH-INTERVAL;VALUE=DURATION:PT1H
X-Robots-Tag:noindex
X-PUBLISHED-TTL:PT1H
BEGIN:VTIMEZONE
TZID:Europe/Paris
BEGIN:DAYLIGHT
TZOFFSETFROM:+0100
TZOFFSETTO:+0200
TZNAME:CEST
DTSTART:20260329T010000
END:DAYLIGHT
BEGIN:STANDARD
TZOFFSETFROM:+0200
TZOFFSETTO:+0100
TZNAME:CET
DTSTART:20261025T010000
END:STANDARD
END:VTIMEZONE
BEGIN:VEVENT
DTSTART;TZID=Europe/Paris:20260122T190000
DTEND;TZID=Europe/Paris:20260122T235959
DTSTAMP:20260421T195642
CREATED:20251218T102927Z
LAST-MODIFIED:20260106T172523Z
UID:10000312-1769108400-1769126399@www.cercleceltiquederennes.org
SUMMARY:Fest-noz au Parquet - dans le cadre des Zef et Mer
DESCRIPTION:Venez fêter la nouvelle année en fest-noz au Parquet de Bal ✨\n\n\n\nLe premier fest-noz de l’année au Parquet de Bal aura lieu dans le cadre du festival des Zef et Mer. Ce festival a pour objectif de valoriser les artistes qui puisent leur inspiration dans les racines bretonnes avec des propositions innovantes\, surprenantes\, colorées et variées. Découvrez le programme complet du festival en cliquant ici. \n\n\n\nComplice de ce festival\, le Cercle Celtique de Rennes organise un fest-noz pour accueillir sur la scène du Parquet de Bal des artistes émergent ou innovant du festival des Zef et Mer pour des prestations complètes. Ce tremplin de la scène bretonne accueillera pour cette 13ème édition les groupes Talskan\, Youpë\, Fagon Hellard et Kerden (ensemble du CCR). \n\n\n\nPrésentation des groupes : \n\n\n\n\nTALSKAN\n\n\n\n🎸 Pablo Molard : guitare électro-acoustique\, compositions🪈 Baptiste Barbier : flûtes traversières en bois🎸 Florian Coïc : guitare portugaise🥁 Thomas Bessé : batterie\, percussions \n\n\n\n\nL’aventure de Talskan débute sur le sol rennais\, lorsque ces quatre musiciens unissent leurs désirs de jouer et\, ensemble\, de faire voyager leurs racines au travers de compositions d’inspirations traditionnelles bretonnes. Ils composent les mélodies dans le respect des territoires qu’ils visitent en y apportant de nouvelles sonorités et une esthétique sonore moderne. Leur musique se veut principalement à danser\, en s’autorisant toujours l’exploration d’autres formes musicales. Laissez-vous danser… \n\n\n\n\n\n\n\n\n\n\n\n\nYOUPË\n\n\n\n🎤 Maëlle Gédouin : chant🪈 Sarah Van Der Vlist : flûtes🪗 Jeanne Lemoine : accordéon diatonique \n\n\n\n\nEnsemble\, elles illustrent le génie populaire avec poésie\, en mettant en musique des chats enragés\, des ânes en peine ou des retoquades dépassées – mais délicieuses– telles que « marchand de pommes cuites » ou « metteur de poules à couver. Youpë a plusieurs significations en gallo\, dont «pousser des cris de joie» ou bien « appeler » / « héler ». Youpë sonne comme un appel à la danse\, à l’expression des corps et des voix\, à travers des textes traditionnels qui racontent des femmes fortes et parfois drôles… \n\n\n\nYOUPËCRI CHANTÉ\,VIVIFIANT ET PRINTANIER\,S’ÉCHAPPANT À TOUTE VIGILANCE \n\n\n\nYoupë a débuté par une envie commune de faire vivre la musique à danser de Haute-Bretagne dans le milieu fest-noz. Les trois musiciennes\, amies par ailleurs\, ont trouvé un langage commun\, dans un trilogue entre voix\, accordéon diatonique et flûtes.  \n\n\n\n\n\n\n\n\n\n\n\n\nDUO FAGON-HELLARD\n\n\n\n🎷 Franck Fagon : saxophone alto\, clarinette🪗 Jean-Sébastien Hellard : accordéon(crédit photo : Louise Quignon) \n\n\n\n\nLe duo Fagon/Hellard présente en toute liberté son nouveau répertoire de danses de Basse et Haute Bretagne\, voire d’un peu ailleurs. Les diverses influences des deux musiciens colorent airs traditionnels ou compositions pour servir une musique riche et spontanée\, parsemée d’improvisation et de fantaisie. La pulsation entêtante des rondes alterne avec la poésie envoûtante de quelque valse ou mazurka dans une énergie communicative qui irradie l’assemblée dans un plaisir partagé. \n\n\n\nCes musiques viennent d’être éditées sur le nouvel album des deux compères : « Le Krign était presqueparfait » \n\n\n\n\n\n\n\n\n\n\n\n\nKERDEN\n\n\n\n🎸 Antoine Savajols : guitare🎸 Arnaud Malivois : guitare🎻 Pierre Fourel : violon(crédit photo : Jean-Maurice Colombel) \n\n\n\n\nKerden\, “cordes” en breton\, est un trio composé d’un violoniste et de deux guitariste issus des cours de musique d’ensemble du Cercle Celtique de Rennes animé par Pablo Molard. Cet ensemble en cours de formation s’emparent avec beaucoup d’enthousiasme des précieux conseils prodigués par leur animateur. Ces musiciens produisent de belles créations inspirés du répertoire traditionnel breton qui ont pour vocation de « faire danser ». \n\n\n\n\n\n\n\n\nRéservation sur HelloAsso : \n\n\n\n\n\n\n\n\n\n\n\n\nℹ️ Pour plus d’information\, vous pouvez nous contacter par mail à l’adresse : contact@ccrennes.bzh ou pendant les horaires d’ouverture de l’accueil au 02 99 54 36 45. \n\n\n\n\n\n\n\n\n\n\n\n\n\n\n\nComplice des Zef et Mer \n\n\n\n\n\n\n\n\n\n\nÉvénement Facebook\n\n\n\n\n\nSite du Festival des Zef et Mer\n\n\n\n\n\n\n\n\n\n\n\n\n\n\nAccès au Parquet de Bal\n\n\n\nLe Parquet de Bal se situe à la Ferme de la Harpe à Villejean.Il est accessible par le métro (ligne A) soit à l’arrêt Villejean Université\, soit à l’arrêt Kennedy.L’accessibilité est également possible par la voies de bus (14 et C4 arrêt Bois Labbé\, 12 arrêt Meynier ou La Harpe).Pour les voitures\, sortir à la rocade Beauregard. \n\n\n\nVous souhaitez en savoir plus sur le Parquet de Bal\, c’est par ici.Pour plus d’informations sur les événements au Cercle\, cliquez ici. \n\n\n\n\n\n\n\n	\n		26\, Avenue Charles et Raymonde Tillon\, Beauregard\, Villejean – Beauregard\, Quartiers Nord-Ouest\, Rennes\, Ille-et-Vilaine\, Bretagne\, France métropolitaine\, 35043\, France
URL:https://www.cercleceltiquederennes.org/event/fest-noz-au-parquet-dans-le-cadre-des-zef-et-mer/
CATEGORIES:Bal trad,Concert,Exposition,Fest noz,Langues,Parquet de bal,Pour les enfants
ATTACH;FMTTYPE=image/png:https://www.cercleceltiquederennes.org/wp-content/uploads/2025/12/20260122-Affiche-F-N-ZefMer-2.png
END:VEVENT
END:VCALENDAR