BEGIN:VCALENDAR
VERSION:2.0
PRODID:-//Cercle celtique de Rennes - ECPv6.13.2.1//NONSGML v1.0//EN
CALSCALE:GREGORIAN
METHOD:PUBLISH
X-WR-CALNAME:Cercle celtique de Rennes
X-ORIGINAL-URL:https://www.cercleceltiquederennes.org
X-WR-CALDESC:Évènements pour Cercle celtique de Rennes
REFRESH-INTERVAL;VALUE=DURATION:PT1H
X-Robots-Tag:noindex
X-PUBLISHED-TTL:PT1H
BEGIN:VTIMEZONE
TZID:Europe/Paris
BEGIN:DAYLIGHT
TZOFFSETFROM:+0100
TZOFFSETTO:+0200
TZNAME:CEST
DTSTART:20260329T010000
END:DAYLIGHT
BEGIN:STANDARD
TZOFFSETFROM:+0200
TZOFFSETTO:+0100
TZNAME:CET
DTSTART:20261025T010000
END:STANDARD
END:VTIMEZONE
BEGIN:VEVENT
DTSTART;TZID=Europe/Paris:20260425T193000
DTEND;TZID=Europe/Paris:20260425T235900
DTSTAMP:20260423T151943
CREATED:20260327T145502Z
LAST-MODIFIED:20260409T141415Z
UID:10000373-1777145400-1777161540@www.cercleceltiquederennes.org
SUMMARY:Fest-noz sortie de résidence de Padalaou
DESCRIPTION:En résidence du 24 au 25 avril 2026 au Cercle Celtique de Rennes\, le groupe Padalaou organise un fest-noz pour présenter leur travail. Venez découvrir ou redécouvrir ce groupe de jeunes bretons lors de leur fest-noz de sortie de résidence avec à leur côté les groupes : Chevalier/Prizé\, Goul’ Benèz\, Vil’ Gwilen\, Sparfell / Aghesse et Maela hag Anouk. \n\n\n\nNé en 2017 dans les couloirs du Cercle Celtique de Rennes\, Padalaou est le fruit de la rencontre entre jeunes amateurs de musique traditionnelle bretonne.Depuis ses débuts\, le groupe trace son chemin en puisant principalement dans le répertoire de Haute-Bretagne\, en y insufflant une énergie vive et généreuse. \n\n\n\n\n\n\n\n\n\nℹ️ Pour plus d’informations\, vous pouvez nous contacter par mail à l’adresse : contact@ccrennes.bzh ou pendant les horaires d’ouverture de l’accueil au 02 99 54 36 45. \n\n\n\n\n\n\net Padalaou \n\n\n\n\n\n\n\n\nÉvénement Facebook\n\n\n\n\n\n\n\n\n\n\n\n\n\nAccès au Parquet de Bal\n\n\n\nLe Parquet de Bal se situe à la Ferme de la Harpe à Villejean.Il est accessible par le métro (ligne A) soit à l’arrêt Villejean Université\, soit à l’arrêt Kennedy.L’accessibilité est également possible par la voies de bus (14 et C4 arrêt Bois Labbé\, 12 arrêt Meynier ou La Harpe).Pour les voitures\, sortir à la rocade Beauregard. \n\n\n\nVous souhaitez en savoir plus sur le Parquet de Bal\, c’est par ici. Pour plus d’informations sur les événements au Cercle\, cliquez ici. \n\n\n\n\n\n\n\n	\n		26\, Avenue Charles et Raymonde Tillon\, Beauregard\, Villejean – Beauregard\, Quartiers Nord-Ouest\, Rennes\, Ille-et-Vilaine\, Bretagne\, France métropolitaine\, 35043\, France
URL:https://www.cercleceltiquederennes.org/event/fest-noz-sortie-de-residence-de-padalaou/
CATEGORIES:Bal trad,Fest diez,Parquet de bal
ATTACH;FMTTYPE=image/png:https://www.cercleceltiquederennes.org/wp-content/uploads/2026/03/20260425-Fest-Noz-Padalaou.png
END:VEVENT
BEGIN:VEVENT
DTSTART;TZID=Europe/Paris:20260429T183000
DTEND;TZID=Europe/Paris:20260429T223000
DTSTAMP:20260423T151943
CREATED:20260330T131014Z
LAST-MODIFIED:20260402T102821Z
UID:10000376-1777487400-1777501800@www.cercleceltiquederennes.org
SUMMARY:Assemblée Générale - réservé aux adhérents
DESCRIPTION:ℹ️ Pour plus d’informations\, vous pouvez nous contacter par mail à l’adresse : contact@ccrennes.bzh ou pendant les horaires d’ouverture de l’accueil au 02 99 54 36 45. \n\n\n\n\n\n\n \n\n\n\n\n\n\n\n\n\n\n\n\n\n\n\n\n\n\n\n\nAccès au Parquet de Bal\n\n\n\nLe Parquet de Bal se situe à la Ferme de la Harpe à Villejean.Il est accessible par le métro (ligne A) soit à l’arrêt Villejean Université\, soit à l’arrêt Kennedy.L’accessibilité est également possible par la voies de bus (14 et C4 arrêt Bois Labbé\, 12 arrêt Meynier ou La Harpe).Pour les voitures\, sortir à la rocade Beauregard. \n\n\n\nVous souhaitez en savoir plus sur le Parquet de Bal\, c’est par ici. Pour plus d’informations sur les événements au Cercle\, cliquez ici. \n\n\n\n\n\n\n\n	\n		26\, Avenue Charles et Raymonde Tillon\, Beauregard\, Villejean – Beauregard\, Quartiers Nord-Ouest\, Rennes\, Ille-et-Vilaine\, Bretagne\, France métropolitaine\, 35043\, France
URL:https://www.cercleceltiquederennes.org/event/assemblee-generale-2/
CATEGORIES:Commission,Fest noz,Parquet de bal
ATTACH;FMTTYPE=image/png:https://www.cercleceltiquederennes.org/wp-content/uploads/2026/03/20260429-Assemblee_Generale-2.png
END:VEVENT
BEGIN:VEVENT
DTSTART;TZID=Europe/Paris:20260505T140000
DTEND;TZID=Europe/Paris:20260505T170000
DTSTAMP:20260423T151943
CREATED:20260409T144005Z
LAST-MODIFIED:20260409T155553Z
UID:10000379-1777989600-1778000400@www.cercleceltiquederennes.org
SUMMARY:Vêprée Dansée - Fest-deiz
DESCRIPTION:Chaque premier mardi du mois à partir de 14h entre octobre et juin\, venez danser à la Vêprée du Cercle Celtique de Rennes. \n\n\n\n\n \n\n\n\n\nAu programme du mardi 5 mai 2026\, sonorisé par Diatonico : \n\n\n\n\nLa Bouèze\n\n\n\nDuo Le Flem/François\n\n\n\nTrio BLC\n\n\n\nDiatonico\n\n\n\nEt pour finir\, un bœuf musical !\n\n\n\n\n\nCafé et thé vous sont offerts. \n\n\n\nApporter juste un gâteau ou/et une boisson pour agrémenter cette après-midi dansée. \n\n\n\nCe fest-deiz est ouvert à tou·te·s\, n’hésitez pas à venir nous rejoindre et parlez-en autour de vous. \n\n\n\n\n\n\n\n\nLa scène est également ouverte à tout·e musicien·ne ou chanteur·euse désireux·euse de participer à l’animation de ces fest-deiz. Pour cela\, contactez Nicolas Palaric par mail : nicolas3556palaric@gmail.com  \n\n\n\nRendez-vous mardi 5 mai 2026 au Cercle Celtique de Rennes pour un après-midi en musiques et danses.  \n\n\n\n\n\n\n\nℹ️ Pour plus d’informations\, vous pouvez nous contacter par mail à l’adresse : contact@ccrennes.bzh ou pendant les horaires d’ouverture de l’accueil au 02 99 54 36 45. \n\n\n\n\n\n\n\n\n\n\n\n\n\n\nEn partenariat avec La Bouèze et Kenleur \n\n\n\n\n\n\n\n\nÉvénement Facebook\n\n\n\n\n\n\n\n\n\n\n\n\n\nAccès au Parquet de Bal\n\n\n\nLe Parquet de Bal se situe à la Ferme de la Harpe à Villejean.Il est accessible par le métro (ligne A) soit à l’arrêt Villejean Université\, soit à l’arrêt Kennedy.L’accessibilité est également possible par la voies de bus (14 et C4 arrêt Bois Labbé\, 12 arrêt Meynier ou La Harpe).Pour les voitures\, sortir à la rocade Beauregard.Adresse précise : 26 av. Charles et Raymonde Tillon\, 35000 RENNES \n\n\n\nVous souhaitez en savoir plus sur le Parquet de Bal\, c’est par ici. Pour plus d’informations sur les événements au Cercle\, cliquez ici. \n\n\n\n\n\n\n\n	\n		26\, Avenue Charles et Raymonde Tillon\, Beauregard\, Villejean – Beauregard\, Quartiers Nord-Ouest\, Rennes\, Ille-et-Vilaine\, Bretagne\, France métropolitaine\, 35043\, France
URL:https://www.cercleceltiquederennes.org/event/vepree-dansee-fest-deiz-9/
CATEGORIES:Fest diez,Parquet de bal
ATTACH;FMTTYPE=image/png:https://www.cercleceltiquederennes.org/wp-content/uploads/2026/04/20260505-Vepree-dansee-1-scaled.png
END:VEVENT
END:VCALENDAR