BEGIN:VCALENDAR
VERSION:2.0
PRODID:-//Cercle celtique de Rennes - ECPv6.13.2.1//NONSGML v1.0//EN
CALSCALE:GREGORIAN
METHOD:PUBLISH
X-WR-CALNAME:Cercle celtique de Rennes
X-ORIGINAL-URL:https://www.cercleceltiquederennes.org
X-WR-CALDESC:Évènements pour Cercle celtique de Rennes
REFRESH-INTERVAL;VALUE=DURATION:PT1H
X-Robots-Tag:noindex
X-PUBLISHED-TTL:PT1H
BEGIN:VTIMEZONE
TZID:Europe/Paris
BEGIN:DAYLIGHT
TZOFFSETFROM:+0100
TZOFFSETTO:+0200
TZNAME:CEST
DTSTART:20240331T010000
END:DAYLIGHT
BEGIN:STANDARD
TZOFFSETFROM:+0200
TZOFFSETTO:+0100
TZNAME:CET
DTSTART:20241027T010000
END:STANDARD
END:VTIMEZONE
BEGIN:VEVENT
DTSTART;TZID=Europe/Paris:20240906T203000
DTEND;TZID=Europe/Paris:20240906T235000
DTSTAMP:20260426T031745
CREATED:20240801T102012Z
LAST-MODIFIED:20240830T083752Z
UID:10000162-1725654600-1725666600@www.cercleceltiquederennes.org
SUMMARY:Fest-Noz Rentrée Rennaise
DESCRIPTION:Venez assister au fest-noz de la sortie d’album d’Hamon-Martin Quintet au Parquet de Bal le samedi 21 septembre à partir de 20h30. Autour de ce super groupe\, retrouvez un formidable plateau avec Annie Ebrel et Nolwenn Le Buhé ainsi que le groupe Zoñj.  \n\n\n\n\n\n\n\n\n\n\n\n\nTarif 10€ / 8€ / Gratuit pour les -12 ans \n\n\n\nOrganisé par Glazard Production : associationglazard@gmail.com  \n\n\n\n\n\n\n\n\n\n\n\n\nAccès au Parquet\n\n\n\nLe Parquet de Bal se situe sur le campus de la Harpe à Villejean.Il est accessible par le métro (ligne A) soit à l’arrêt Villejean Université\, soit à l’arrêt Kennedy.L’accessibilité est également possible par la voies de bus (14 et C4 arrêt Bois Labbé\, 12 arrêt Normandie).Pour les voitures\, sortir à la rocade Beauregard. \n\n\n\nVous souhaitez en savoir plus sur le Parquet de Bal\, c’est par ici. \n\n\n\n\n\n\n\n	\n		26\, Avenue Charles et Raymonde Tillon\, Beauregard\, Villejean – Beauregard\, Quartiers Nord-Ouest\, Rennes\, Ille-et-Vilaine\, Bretagne\, France métropolitaine\, 35043\, France
URL:https://www.cercleceltiquederennes.org/event/fest-noz-rentree-rennaise/
CATEGORIES:Bal trad,Fest noz,Parquet de bal
ATTACH;FMTTYPE=application/pdf:https://www.cercleceltiquederennes.org/wp-content/uploads/2024/08/GLAZARD_festnoz3_aff_A3_V4.pdf
END:VEVENT
BEGIN:VEVENT
DTSTART;TZID=Europe/Paris:20240904T200000
DTEND;TZID=Europe/Paris:20240904T220000
DTSTAMP:20260426T031745
CREATED:20240619T103544Z
LAST-MODIFIED:20240725T072916Z
UID:10000152-1725480000-1725487200@www.cercleceltiquederennes.org
SUMMARY:Faites de la danse
DESCRIPTION:
URL:https://www.cercleceltiquederennes.org/event/faites-de-la-danse/
LOCATION:Cercle celtique de Rennes\, 26 avenue Charles Tillon\, Rennes\, France\, France
ATTACH;FMTTYPE=image/png:https://www.cercleceltiquederennes.org/wp-content/uploads/2024/06/Affiche-faites-de-la-danse-final.png
END:VEVENT
BEGIN:VEVENT
DTSTART;TZID=Europe/Paris:20240824T150000
DTEND;TZID=Europe/Paris:20240824T150000
DTSTAMP:20260426T031745
CREATED:20240724T104931Z
LAST-MODIFIED:20240822T092755Z
UID:10000161-1724511600-1724511600@www.cercleceltiquederennes.org
SUMMARY:Balade et bal interculturels
DESCRIPTION:Les associations Bretagne Chigoma et le Cercle Celtique de Rennes organisent le samedi 24 août une balade interculturelle en chanson dans le quartier de Villejean. Rendez-vous au Cercle Celtique de Rennes à 15h pour marcher\, chanter et danser ensemble avec plusieurs animations surprises. \n\n\n\nCette balade se terminera au Parquet de Bal pour un temps festif\, des initiations aux danses mahoraises et bretonnes suivies d’un bal interculturel. Venez découvrir la gastronomie\, les danses et les musiques de ces deux cultures. \n\n\n\nCercle Celtique de Rennes\, 26 Av. Charles et Raymonde Tillon 35000 RENNES
URL:https://www.cercleceltiquederennes.org/event/bal-et-balades-interculturels/
LOCATION:26 Av. Charles et Raymonde Tillon\, 35000 Rennes\, 26\, rennes\, France
CATEGORIES:Bal interculturel,Balade,Fest noz,Parquet de bal
ATTACH;FMTTYPE=image/png:https://www.cercleceltiquederennes.org/wp-content/uploads/2024/07/Affiche-DagaNoz-V6.png
END:VEVENT
BEGIN:VEVENT
DTSTART;TZID=Europe/Paris:20240714T160000
DTEND;TZID=Europe/Paris:20240714T180000
DTSTAMP:20260426T031745
CREATED:20240701T123117Z
LAST-MODIFIED:20240701T123119Z
UID:10000157-1720972800-1720980000@www.cercleceltiquederennes.org
SUMMARY:Concert - musiques celtiques traditionnelles et anciennes
DESCRIPTION:Dimanche 14 juillet à partir de 16h\, venez retrouver Tina Chancey (Etats-Unis) et Dimitri Boekhoorn (Pays-Bas) pour un concert de musiques celtiques traditionnelles et anciennes.  \n\n\n\n\n\n\n\n\n\n\n\n\n\n\n\n	\n		Cercle Celtique de Rennes\, Avenue Charles et Raymonde Tillon\, Beauregard\, Villejean – Beauregard\, Quartiers Nord-Ouest\, Rennes\, Ille-et-Vilaine\, Bretagne\, France métropolitaine\, 35043\, France
URL:https://www.cercleceltiquederennes.org/event/concert-musiques-celtiques-traditionnelles-et-anciennes/
CATEGORIES:Concert
ATTACH;FMTTYPE=image/png:https://www.cercleceltiquederennes.org/wp-content/uploads/2024/07/Concert-et-stage-Duo-Tina-Dimitri-Cercle-Rennes-14-juillet-2024-1.png
END:VEVENT
BEGIN:VEVENT
DTSTART;TZID=Europe/Paris:20240714T100000
DTEND;TZID=Europe/Paris:20240714T150000
DTSTAMP:20260426T031745
CREATED:20240701T124043Z
LAST-MODIFIED:20240701T124046Z
UID:10000158-1720951200-1720969200@www.cercleceltiquederennes.org
SUMMARY:Stage de musiques celtiques traditionnelles et anciennes
DESCRIPTION:Stage de harpe\, flûte\, violon et multi-instruments en compagnie de Tina Chancey et Dimitri Boekhoorn.  \n\n\n\nInscriptions par mail : dimitri10000@hotmail.com  \n\n\n\n\n\n\n\n\n\n\n\n\n\n\n\n	\n		Cercle Celtique de Rennes\, Avenue Charles et Raymonde Tillon\, Beauregard\, Villejean – Beauregard\, Quartiers Nord-Ouest\, Rennes\, Ille-et-Vilaine\, Bretagne\, France métropolitaine\, 35043\, France
URL:https://www.cercleceltiquederennes.org/event/stage-de-musiques-celtiques-traditionnelles-et-anciennes/
CATEGORIES:Stage
ATTACH;FMTTYPE=image/png:https://www.cercleceltiquederennes.org/wp-content/uploads/2024/07/Concert-et-stage-Duo-Tina-Dimitri-Cercle-Rennes-14-juillet-2024-1-2.png
END:VEVENT
BEGIN:VEVENT
DTSTART;TZID=Europe/Paris:20240706T090000
DTEND;TZID=Europe/Paris:20240706T230000
DTSTAMP:20260426T031745
CREATED:20240701T084003Z
LAST-MODIFIED:20240701T123402Z
UID:10000156-1720256400-1720306800@www.cercleceltiquederennes.org
SUMMARY:Kanaky'Fest
DESCRIPTION:L’association Caillou en Bretagne organise une journée sur le thème de la culture kanak samedi 6 juillet. Venez y découvrir la richesse de cette culture !  \n\n\n\n \n\n\n\n\n\n\n\n\n\n\n\n\n\n\n\n\n\n\n\n\n\n\n\n\n\n\n\n\n\n\n\n\n\n\n\n\n\n\n\n\n\n\n\n\n\n\n\n\n\n\n\n\n\n\n\n\n\n\n\n\n\n	\n		26\, Avenue Charles et Raymonde Tillon\, Beauregard\, Villejean – Beauregard\, Quartiers Nord-Ouest\, Rennes\, Ille-et-Vilaine\, Bretagne\, France métropolitaine\, 35043\, France
URL:https://www.cercleceltiquederennes.org/event/kanakyfest/
CATEGORIES:Concert,Conférence,Parquet de bal
ATTACH;FMTTYPE=image/jpeg:https://www.cercleceltiquederennes.org/wp-content/uploads/2024/07/AFFICHE-OK-hnyawa-KANAKYFEST-1-scaled.jpg
END:VEVENT
BEGIN:VEVENT
DTSTART;TZID=Europe/Paris:20240622T093000
DTEND;TZID=Europe/Paris:20240622T170000
DTSTAMP:20260426T031745
CREATED:20240523T150152Z
LAST-MODIFIED:20240523T150253Z
UID:10000146-1719048600-1719075600@www.cercleceltiquederennes.org
SUMMARY:Stage de gallo
DESCRIPTION:Inscriptions en ligne via helloasso ou par mail à contact@cercleceltiquederennes.org ou au 0299543645
URL:https://www.cercleceltiquederennes.org/event/stage-de-gallo-2/
LOCATION:Cercle celtique de Rennes\, 26 avenue Charles Tillon\, Rennes\, France\, France
ATTACH;FMTTYPE=image/png:https://www.cercleceltiquederennes.org/wp-content/uploads/2024/05/Stage1.png
END:VEVENT
BEGIN:VEVENT
DTSTART;TZID=Europe/Paris:20240621T180000
DTEND;TZID=Europe/Paris:20240621T230000
DTSTAMP:20260426T031745
CREATED:20240527T071704Z
LAST-MODIFIED:20240621T110136Z
UID:10000147-1718992800-1719010800@www.cercleceltiquederennes.org
SUMMARY:Fête de la musique
DESCRIPTION:
URL:https://www.cercleceltiquederennes.org/event/fete-de-la-musique/
LOCATION:Place hoche
ATTACH;FMTTYPE=image/png:https://www.cercleceltiquederennes.org/wp-content/uploads/2024/05/Programme-Fete-de-la-Musique.png
END:VEVENT
BEGIN:VEVENT
DTSTART;TZID=Europe/Paris:20240619T183000
DTEND;TZID=Europe/Paris:20240619T200000
DTSTAMP:20260426T031745
CREATED:20240618T073037Z
LAST-MODIFIED:20240618T083733Z
UID:10000151-1718821800-1718827200@www.cercleceltiquederennes.org
SUMMARY:Assemblée Générale
DESCRIPTION:Télécharger ici le pdf pour la prochaine convocation pour la prochaine l’Assemblée Générale
URL:https://www.cercleceltiquederennes.org/event/assemblee-generale/
LOCATION:Cercle Celtique de Rennes – Kelc’h Keltiek Roazhon – Cercl Celtiqe de Rene Ferme de La Harpe 26 Avenue Charles et Raymonde Tillon 35000 RENNES
ATTACH;FMTTYPE=image/png:https://www.cercleceltiquederennes.org/wp-content/uploads/2024/06/Assemblee-generale.png
END:VEVENT
BEGIN:VEVENT
DTSTART;TZID=Europe/Paris:20240612T180000
DTEND;TZID=Europe/Paris:20240612T200000
DTSTAMP:20260426T031745
CREATED:20240604T132102Z
LAST-MODIFIED:20240604T133106Z
UID:10000149-1718215200-1718222400@www.cercleceltiquederennes.org
SUMMARY:Bar asso' #7 : Jeux en langues de Bretagne
DESCRIPTION:Jeux en langues de Bretagne – Gallo + scène ouverte*\n\n\n\n\n\n\n\n\n\nVenez partager un moment convivial autour de jeux de société tout en pratiquant les langues de Bretagne. Ce 12 juin\, c’est le gallo qui sera mis à l’honneur. \n\n\n\n\n\nN’hésitez pas à apporter vos jeux de société préférés ! \n\n\n\n\n*Pour rappel les passages sur scène ouverte ne sont pas sonorisés.
URL:https://www.cercleceltiquederennes.org/event/bar-asso-7-jeux-en-langues-de-bretagne/
LOCATION:Parquet de Bal\, Ferme de la Harpe
CATEGORIES:Bar asso
ATTACH;FMTTYPE=image/png:https://www.cercleceltiquederennes.org/wp-content/uploads/2024/06/Bar-Asso-Jeux-en-langues-de-Bretagne.png
END:VEVENT
BEGIN:VEVENT
DTSTART;TZID=Europe/Paris:20240607T203000
DTEND;TZID=Europe/Paris:20240607T235959
DTSTAMP:20260426T031745
CREATED:20240523T100147Z
LAST-MODIFIED:20240523T132207Z
UID:10000141-1717792200-1717804799@www.cercleceltiquederennes.org
SUMMARY:Fest-noz de la relève
DESCRIPTION:Venez danser et écouter les musiciens de l’association Dorn ha Dorn et du Cercle Celtique de Rennes qui se feront un plaisir de vous accueillir à partir de 20h30 le vendredi 7 juin.
URL:https://www.cercleceltiquederennes.org/event/fest-noz-de-la-releve/
LOCATION:Parquet de Bal\, Ferme de la Harpe
CATEGORIES:Fest noz
ATTACH;FMTTYPE=image/png:https://www.cercleceltiquederennes.org/wp-content/uploads/2024/05/Fest-Noz-de-la-releve1.png
END:VEVENT
BEGIN:VEVENT
DTSTART;TZID=Europe/Paris:20240605T180000
DTEND;TZID=Europe/Paris:20240605T200000
DTSTAMP:20260426T031745
CREATED:20240604T084101Z
LAST-MODIFIED:20240604T134815Z
UID:10000148-1717610400-1717617600@www.cercleceltiquederennes.org
SUMMARY:Bar asso' #6 : Commission langue + Coaz' toujours
DESCRIPTION:18h05 – 19h05 : Commission langue \n\n\n\n\n\n19h15 – 19h45 : Coaz’ toujours  \n\n\n\n\n*Pour rappel les passages sur scène ouverte ne sont pas sonorisés.
URL:https://www.cercleceltiquederennes.org/event/bar-asso-6-commission-langue-coaz-toujours/
LOCATION:Parquet de Bal\, Ferme de la Harpe
CATEGORIES:Bar asso
ATTACH;FMTTYPE=image/png:https://www.cercleceltiquederennes.org/wp-content/uploads/2024/06/Affiche-prog-Bar-Asso-5-juin.png
END:VEVENT
BEGIN:VEVENT
DTSTART;TZID=Europe/Paris:20240604T140000
DTEND;TZID=Europe/Paris:20240604T140000
DTSTAMP:20260426T031745
CREATED:20240522T151901Z
LAST-MODIFIED:20240522T153758Z
UID:10000140-1717509600-1717509600@www.cercleceltiquederennes.org
SUMMARY:Vêprée Dansée
DESCRIPTION:Chaque premier mardi du mois à partir de 14h entre octobre et juin\, venez danser à la vêprée du Cercle celtique de Rennes. \n\n\n\nCafé et thé vous sont offerts. \n\n\n\nApporter juste un gâteau ou/et une boisson pour agrémenter cette après-midi dansée. \n\n\n\nL’après-midi est ouverte à tous\, n’hésitez pas à venir nous rejoindre et parlez-en autour de vous \n\n\n\nLa scène est également ouverte à tout musicien ou chanteur désireux de participer à l’animation de cette après-midi.
URL:https://www.cercleceltiquederennes.org/event/vepree-dansee-5/
LOCATION:salle de danse\, Ferme de la harpe
CATEGORIES:Bal trad,Fest diez
ATTACH;FMTTYPE=image/png:https://www.cercleceltiquederennes.org/wp-content/uploads/2024/05/VEPREE.pdf_2.pdf.png
END:VEVENT
BEGIN:VEVENT
DTSTART;TZID=Europe/Paris:20240525T140000
DTEND;TZID=Europe/Paris:20240526T180000
DTSTAMP:20260426T031745
CREATED:20240523T140206Z
LAST-MODIFIED:20240523T140231Z
UID:10000145-1716645600-1716746400@www.cercleceltiquederennes.org
SUMMARY:Meliaj
DESCRIPTION:
URL:https://www.cercleceltiquederennes.org/event/meliaj/
LOCATION:Saint-Brieuc\, Palais des Congrès \, Parc des promenades
ATTACH;FMTTYPE=image/png:https://www.cercleceltiquederennes.org/wp-content/uploads/2024/05/2023-Meliaj-Affiche-A4.png
END:VEVENT
BEGIN:VEVENT
DTSTART;TZID=Europe/Paris:20240525T100000
DTEND;TZID=Europe/Paris:20240525T230000
DTSTAMP:20260426T031745
CREATED:20240523T134832Z
LAST-MODIFIED:20240524T070155Z
UID:10000144-1716631200-1716678000@www.cercleceltiquederennes.org
SUMMARY:Fête de l’Europe – Journée écossaise et irlandaise
DESCRIPTION:ATTENTION ÉVÉNEMENT MODIFIÉ ! \n\n\n\nLe Ceilidh écossais de 15h à 18h est annulé et remplacé par une initiation aux danses écossaises gratuite (initialement prévu le matin).
URL:https://www.cercleceltiquederennes.org/event/fete-de-leurope-journee-ecossaise-et-irlandaise/
LOCATION:Av. Charles & Raymonde Tillon\, Ferme de la Harpe
ATTACH;FMTTYPE=image/png:https://www.cercleceltiquederennes.org/wp-content/uploads/2024/05/Fete-de-lEurope-2024-Modifiee-3.png
END:VEVENT
BEGIN:VEVENT
DTSTART;TZID=Europe/Paris:20240524T200000
DTEND;TZID=Europe/Paris:20240524T233000
DTSTAMP:20260426T031745
CREATED:20240523T133359Z
LAST-MODIFIED:20240524T070559Z
UID:10000143-1716580800-1716593400@www.cercleceltiquederennes.org
SUMMARY:Fête de l’Europe : Fest – Noz
DESCRIPTION:
URL:https://www.cercleceltiquederennes.org/event/fete-de-leurope-fest-noz/
LOCATION:Av. Charles & Raymonde Tillon\, Ferme de la Harpe
ATTACH;FMTTYPE=image/png:https://www.cercleceltiquederennes.org/wp-content/uploads/2024/05/Fete-de-lEurope-2024-Modifiee-4.png
END:VEVENT
BEGIN:VEVENT
DTSTART;TZID=Europe/Paris:20240507T140000
DTEND;TZID=Europe/Paris:20240507T140000
DTSTAMP:20260426T031745
CREATED:20240506T100803Z
LAST-MODIFIED:20240506T101656Z
UID:10000139-1715090400-1715090400@www.cercleceltiquederennes.org
SUMMARY:Veprée dansée
DESCRIPTION:Chaque premier mardi du mois à partir de 14h entre octobre et juin\, venez danser à la vêprée du Cercle celtique de Rennes. \n\n\n\nCafé et thé vous sont offerts. \n\n\n\nApporter juste un gâteau ou/et une boisson pour agrémenter cette après-midi dansée.
URL:https://www.cercleceltiquederennes.org/event/vepree-dansee-4/
LOCATION:Cercle Celtique de Rennes\, 26 Avenue Charles et Raymonde Tillon\, Rennes\, Ille-et-Vilaine\, 35000\, France
ATTACH;FMTTYPE=image/png:https://www.cercleceltiquederennes.org/wp-content/uploads/2024/05/Vepree-mai-2024.png
END:VEVENT
BEGIN:VEVENT
DTSTART;TZID=Europe/Paris:20240504T100000
DTEND;TZID=Europe/Paris:20240504T130000
DTSTAMP:20260426T031745
CREATED:20230906T134526Z
LAST-MODIFIED:20230906T134527Z
UID:10000053-1714816800-1714827600@www.cercleceltiquederennes.org
SUMMARY:des classiques des musiques des sessions écossaises
DESCRIPTION:Aujourd’hui\, l’Écosse possède une scène musicale traditionnelle florissante qui a été influencée à la fois par les différentes parties de l’Écosse et par les centres musicaux dynamiques d’Édimbourg et\, en particulier\, de Glasgow. Il y a plein de grands airs qui sont connus non seulement en Ecosse mais partout dans le monde folklorique. Dans cet atelier\, apprenez quelques-unes des plus courantes que vous pouvez emporter avec vous et jouer en sessions ! \n\n\n\nLieu: Cercle Celtique de Rennes \n\n\n\nPrix à voir sur le site de l’organisateur.
URL:https://www.cercleceltiquederennes.org/event/des-classiques-des-musiques-des-sessions-ecossaises/
LOCATION:Av. Charles et Raymonde Tillon\, 35000 Rennes
ATTACH;FMTTYPE=image/png:https://www.cercleceltiquederennes.org/wp-content/uploads/2023/09/Des-classiques-des-musiques-des-sessions-ecossaises.png
END:VEVENT
BEGIN:VEVENT
DTSTART;TZID=Europe/Paris:20240428T133000
DTEND;TZID=Europe/Paris:20240428T183000
DTSTAMP:20260426T031745
CREATED:20240404T081501Z
LAST-MODIFIED:20240404T081504Z
UID:10000137-1714311000-1714329000@www.cercleceltiquederennes.org
SUMMARY:TEMPS DAÑS TRAD 2024
DESCRIPTION:Cours de danse gratuit \n\n\n\nDans le cadre de leur diplôme\, les stagiaires de la formation des moniteurs spécialisés en danses traditionnelles de la Confédération Kenleur doivent présenter et enseigner une danse de leur choix à un public\, initié ou non. Chaque séance dure 40 minutes avec une présentation et un apprentissage de la danse. \n\n\n\nÀ partir de 13h30 – Cercle celtique de Rennes \n\n\n\nL’inscription est obligatoire et gratuite sur : confédération@kenleur.bzh
URL:https://www.cercleceltiquederennes.org/event/temps-dans-trad-2024/
CATEGORIES:Bal trad,Parquet de bal
ATTACH;FMTTYPE=image/jpeg:https://www.cercleceltiquederennes.org/wp-content/uploads/2024/04/fest-noz-de-lagro-4-2048x1585-1.jpg
END:VEVENT
BEGIN:VEVENT
DTSTART;TZID=Europe/Paris:20240418T200000
DTEND;TZID=Europe/Paris:20240418T233000
DTSTAMP:20260426T031745
CREATED:20240404T080419Z
LAST-MODIFIED:20240409T082759Z
UID:10000136-1713470400-1713483000@www.cercleceltiquederennes.org
SUMMARY:Fest-Noz #6
DESCRIPTION:Retrouvez Segal\, Marie-Laurence Fustec/Brigitte Le Corre\, Emmanuielle Bouthillier/Mathieu Guitton\, Mickaël Jouanno/Biran Lamour et les élèves du Conservatoire de Rennes au fest-noz organisé par le Conservatoire.
URL:https://www.cercleceltiquederennes.org/event/fest-noz-2/
CATEGORIES:Concert,Fest noz,Parquet de bal
ATTACH;FMTTYPE=image/jpeg:https://www.cercleceltiquederennes.org/wp-content/uploads/2024/04/Segal-Photo-Rebecca-James-scaled.jpg
END:VEVENT
BEGIN:VEVENT
DTSTART;TZID=Europe/Paris:20240417T190000
DTEND;TZID=Europe/Paris:20240417T190000
DTSTAMP:20260426T031745
CREATED:20240408T124757Z
LAST-MODIFIED:20240408T124800Z
UID:10000138-1713380400-1713380400@www.cercleceltiquederennes.org
SUMMARY:Bodadeg
DESCRIPTION:L’occasion pour tout les danseurs\, nouveaux ou plus expérimentés de partager le plaisir de danser avec des musiciens.
URL:https://www.cercleceltiquederennes.org/event/bodadeg-3/
CATEGORIES:Bal trad,Parquet de bal
ATTACH;FMTTYPE=image/png:https://www.cercleceltiquederennes.org/wp-content/uploads/2024/04/Bodadeg-MERCREDI-17-AVRIL.png
END:VEVENT
BEGIN:VEVENT
DTSTART;TZID=Europe/Paris:20240410T140000
DTEND;TZID=Europe/Paris:20240410T170000
DTSTAMP:20260426T031745
CREATED:20230823T121517Z
LAST-MODIFIED:20240403T102413Z
UID:10000028-1712757600-1712768400@www.cercleceltiquederennes.org
SUMMARY:le bal des mondes
DESCRIPTION:Pour tous \n\n\n\nLe Bal des Mondes permet aux habitants de Beauregard et de Villejean de se croiser pendant un moment festif sur le Parquet de Bal du Cercle celtique de Rennes. \n\n\n\nEn amont\, on sensibilise les enfants (à l’accueil de loisirs) aux danses et à la musique bretonne alliées à celles d’une autre culture. Cela leur permet de prendre conscience de la diversité culturelle du territoire. \n\n\n\nRenseignements auprès de Loïc NICOLAS – 02 99 54 36 45 – 07 07 62 19 37 78 / loic@cercleceltiquederennes.org \n\n\n\n\n\nEn partenariat avec 3 Regards
URL:https://www.cercleceltiquederennes.org/event/le-bal-des-mondes/
LOCATION:Parquet de Bal\, avenue Charles et Raymonde Tillon\, Rennes\, France
CATEGORIES:Bal trad,Parquet de bal,Pour les enfants
ATTACH;FMTTYPE=image/png:https://www.cercleceltiquederennes.org/wp-content/uploads/2023/08/baldesmondes24.png
END:VEVENT
BEGIN:VEVENT
DTSTART;TZID=Europe/Paris:20240407T140000
DTEND;TZID=Europe/Paris:20240407T180000
DTSTAMP:20260426T031745
CREATED:20240326T150847Z
LAST-MODIFIED:20240326T150850Z
UID:10000135-1712498400-1712512800@www.cercleceltiquederennes.org
SUMMARY:Gouel an Nevezamzer
DESCRIPTION:Danses\, jeux\, spectacle en gallo pour les petits et grands.
URL:https://www.cercleceltiquederennes.org/event/gouel-an-nevezamzer/
CATEGORIES:Fest diez,Langues,Pour les enfants
ATTACH;FMTTYPE=image/jpeg:https://www.cercleceltiquederennes.org/wp-content/uploads/2024/03/gouel-an-nevezamzer-2024-affiche-768x1002-1.jpg
END:VEVENT
BEGIN:VEVENT
DTSTART;TZID=Europe/Paris:20240405T203000
DTEND;TZID=Europe/Paris:20240406T010000
DTSTAMP:20260426T031745
CREATED:20240326T144945Z
LAST-MODIFIED:20240326T145112Z
UID:10000134-1712349000-1712365200@www.cercleceltiquederennes.org
SUMMARY:FEST NOZ
DESCRIPTION:Kejadenn \n\n\n\n\n\n9€ (plein tarif)7€ (tarif étudiant)
URL:https://www.cercleceltiquederennes.org/event/3697/
CATEGORIES:Fest noz,Parquet de bal
ATTACH;FMTTYPE=image/png:https://www.cercleceltiquederennes.org/wp-content/uploads/2024/03/66356_300.png
END:VEVENT
BEGIN:VEVENT
DTSTART;TZID=Europe/Paris:20240330T140000
DTEND;TZID=Europe/Paris:20240330T170000
DTSTAMP:20260426T031745
CREATED:20240219T104503Z
LAST-MODIFIED:20240219T104505Z
UID:10000130-1711807200-1711818000@www.cercleceltiquederennes.org
SUMMARY:KAN AR BOBL - Parquet de bal
DESCRIPTION:concours de chant\, de musique et de culture bretonne. Vous êtes musicien\, musicienne\, conteur\, conteuse\, chanteur ou chanteuse ? De 02 à 102 ans\, quels que soient votre niveau et vos inspirations\, particuliers ou scolaires\, vous pouvez participer à la 50e édition du KAB ! Renseignements et inscriptions : contact@skeudenn.bzh – tél : 02 99 30 06 87
URL:https://www.cercleceltiquederennes.org/event/kan-ar-bobl-parquet-de-bal/
ATTACH;FMTTYPE=image/jpeg:https://www.cercleceltiquederennes.org/wp-content/uploads/2024/02/kanarbolb.jpg
END:VEVENT
BEGIN:VEVENT
DTSTART;TZID=Europe/Paris:20240330T100000
DTEND;TZID=Europe/Paris:20240330T130000
DTSTAMP:20260426T031745
CREATED:20230906T134019Z
LAST-MODIFIED:20230906T134022Z
UID:10000052-1711792800-1711803600@www.cercleceltiquederennes.org
SUMMARY:musique de la côte est de l'ecosse
DESCRIPTION:La côte est de l’Écosse\, contrairement à la côte ouest\, est caractérisée par le violon et son répertoire. Des compositeurs tels que Neil Gow et James Scott Skinner occupent une place importante dans le répertoire et reflètent les danses écossaises de la côte est. Dans cet atelier\, vous découvrirez des styles tels que le strathspey et le moulinet. Vous repartirez avec des airs en tête et bien sûr les partitions. \n\n\n\nLieu: Cercle Celtique de Rennes \n\n\n\nPrix à voir sur le site de l’organisateur.
URL:https://www.cercleceltiquederennes.org/event/musique-de-la-cote-est-de-lecosse/
LOCATION:Av. Charles et Raymonde Tillon\, 35000 Rennes
ATTACH;FMTTYPE=image/png:https://www.cercleceltiquederennes.org/wp-content/uploads/2023/09/Musique-de-la-cote-est-de-lEcosse.png
END:VEVENT
BEGIN:VEVENT
DTSTART;TZID=Europe/Paris:20240330T093000
DTEND;TZID=Europe/Paris:20240330T170000
DTSTAMP:20260426T031745
CREATED:20240326T142814Z
LAST-MODIFIED:20240326T142816Z
UID:10000133-1711791000-1711818000@www.cercleceltiquederennes.org
SUMMARY:Stage de gallo
DESCRIPTION:Stage de gallo avec Anne Marie Pelhate
URL:https://www.cercleceltiquederennes.org/event/stage-de-gallo/
CATEGORIES:Langues,Stage
ATTACH;FMTTYPE=image/jpeg:https://www.cercleceltiquederennes.org/wp-content/uploads/2024/03/Stage-gallo.jpg
END:VEVENT
BEGIN:VEVENT
DTSTART;TZID=Europe/Paris:20240323T193000
DTEND;TZID=Europe/Paris:20240323T233000
DTSTAMP:20260426T031746
CREATED:20240219T104004Z
LAST-MODIFIED:20240322T120558Z
UID:10000129-1711222200-1711236600@www.cercleceltiquederennes.org
SUMMARY:FEST NOZ AMNESTY INTERNATIONAL               - Parquet de bal
DESCRIPTION:Avec Chilaouet\, Maela Hag Anouk\, Christian et Thierry Anneix\, Jean Baron\, Sophie Pagnon\, Marianne Bouvet\, Sophie Pagnon Lutig
URL:https://www.cercleceltiquederennes.org/event/fest-noz-amnesty-internationale-parquet-de-bal/
LOCATION:Parquet de bal
ATTACH;FMTTYPE=image/jpeg:https://www.cercleceltiquederennes.org/wp-content/uploads/2024/02/fest-noz-amnesty-international_page-0001-rotated.jpg
END:VEVENT
BEGIN:VEVENT
DTSTART;TZID=Europe/Paris:20240322T200000
DTEND;TZID=Europe/Paris:20240322T233000
DTSTAMP:20260426T031746
CREATED:20240322T120129Z
LAST-MODIFIED:20240322T120131Z
UID:10000132-1711137600-1711150200@www.cercleceltiquederennes.org
SUMMARY:Fest-Noz Intercelt'week
DESCRIPTION:Avec Triskill\, Sho\, Danigos-Le Bras\, Arz’h\, Maela Hag Anouk
URL:https://www.cercleceltiquederennes.org/event/fest-noz-interceltweek/
ATTACH;FMTTYPE=application/pdf:https://www.cercleceltiquederennes.org/wp-content/uploads/2024/03/FESTNOZ-interceltic-week-2024.pdf
END:VEVENT
BEGIN:VEVENT
DTSTART;TZID=Europe/Paris:20240317T130000
DTEND;TZID=Europe/Paris:20240317T180000
DTSTAMP:20260426T031746
CREATED:20240214T104912Z
LAST-MODIFIED:20240214T104913Z
UID:10000110-1710680400-1710698400@www.cercleceltiquederennes.org
SUMMARY:FÊTE DE CLÔTURE SEVENADUR - Halle Martenot
DESCRIPTION:Après plus de quinze jours de festivités et de rencontres dans le pays de Rennes\, Sevenadur se clôture de manière festive : jeux traditionnels\, fest deiz\, chorale des enfants\, forum des associations\, ateliers\, etc. Entrée libre.
URL:https://www.cercleceltiquederennes.org/event/fete-de-cloture-sevenadur-halle-martenot/
ATTACH;FMTTYPE=image/jpeg:https://www.cercleceltiquederennes.org/wp-content/uploads/2024/02/fete-de-cloture-1-1280x1810-1.jpg
END:VEVENT
END:VCALENDAR