BEGIN:VCALENDAR
VERSION:2.0
PRODID:-//Cercle celtique de Rennes - ECPv6.13.2.1//NONSGML v1.0//EN
CALSCALE:GREGORIAN
METHOD:PUBLISH
X-WR-CALNAME:Cercle celtique de Rennes
X-ORIGINAL-URL:https://www.cercleceltiquederennes.org
X-WR-CALDESC:Évènements pour Cercle celtique de Rennes
REFRESH-INTERVAL;VALUE=DURATION:PT1H
X-Robots-Tag:noindex
X-PUBLISHED-TTL:PT1H
BEGIN:VTIMEZONE
TZID:Europe/Paris
BEGIN:DAYLIGHT
TZOFFSETFROM:+0100
TZOFFSETTO:+0200
TZNAME:CEST
DTSTART:20230326T010000
END:DAYLIGHT
BEGIN:STANDARD
TZOFFSETFROM:+0200
TZOFFSETTO:+0100
TZNAME:CET
DTSTART:20231029T010000
END:STANDARD
END:VTIMEZONE
BEGIN:VEVENT
DTSTART;TZID=Europe/Paris:20231220T163000
DTEND;TZID=Europe/Paris:20231220T190000
DTSTAMP:20260424T054320
CREATED:20231206T144439Z
LAST-MODIFIED:20231206T144441Z
UID:10000079-1703089800-1703098800@www.cercleceltiquederennes.org
SUMMARY:Goûter de Noël de la Bodadeg
DESCRIPTION:A destination des familles \n\n\n\nNous vous invitons à venir déguster un bon chocolat chaud et une part de gâteau en écoutant des contes.Un espace de création de décorations de noël sera mis en place\, ainsi qu’un espace de répétition pour les musiciens en herbe qui joueront à la Bodadeg  \n\n\n\nréservation conseillée
URL:https://www.cercleceltiquederennes.org/event/gouter-de-noel-de-la-bodadeg/
LOCATION:av Charles et Raymonde Tillon\, rennes\, France
CATEGORIES:Pour les enfants
ATTACH;FMTTYPE=image/png:https://www.cercleceltiquederennes.org/wp-content/uploads/2023/12/gouter-de-noel.png
END:VEVENT
END:VCALENDAR