BEGIN:VCALENDAR
VERSION:2.0
PRODID:-//Cercle celtique de Rennes - ECPv6.13.2.1//NONSGML v1.0//EN
CALSCALE:GREGORIAN
METHOD:PUBLISH
X-WR-CALNAME:Cercle celtique de Rennes
X-ORIGINAL-URL:https://www.cercleceltiquederennes.org
X-WR-CALDESC:Évènements pour Cercle celtique de Rennes
REFRESH-INTERVAL;VALUE=DURATION:PT1H
X-Robots-Tag:noindex
X-PUBLISHED-TTL:PT1H
BEGIN:VTIMEZONE
TZID:Europe/Paris
BEGIN:DAYLIGHT
TZOFFSETFROM:+0100
TZOFFSETTO:+0200
TZNAME:CEST
DTSTART:20230326T010000
END:DAYLIGHT
BEGIN:STANDARD
TZOFFSETFROM:+0200
TZOFFSETTO:+0100
TZNAME:CET
DTSTART:20231029T010000
END:STANDARD
BEGIN:DAYLIGHT
TZOFFSETFROM:+0100
TZOFFSETTO:+0200
TZNAME:CEST
DTSTART:20240331T010000
END:DAYLIGHT
BEGIN:STANDARD
TZOFFSETFROM:+0200
TZOFFSETTO:+0100
TZNAME:CET
DTSTART:20241027T010000
END:STANDARD
BEGIN:DAYLIGHT
TZOFFSETFROM:+0100
TZOFFSETTO:+0200
TZNAME:CEST
DTSTART:20250330T010000
END:DAYLIGHT
BEGIN:STANDARD
TZOFFSETFROM:+0200
TZOFFSETTO:+0100
TZNAME:CET
DTSTART:20251026T010000
END:STANDARD
END:VTIMEZONE
BEGIN:VEVENT
DTSTART;TZID=Europe/Paris:20250729T090000
DTEND;TZID=Europe/Paris:20250731T170000
DTSTAMP:20260423T230411
CREATED:20250625T152505Z
LAST-MODIFIED:20250625T152506Z
UID:10000269-1753779600-1753981200@www.cercleceltiquederennes.org
SUMMARY:Atelier de broderie - Journées enfant
DESCRIPTION:Venez réaliser un magnifique motif estival. Les brodeuses du Cercle sont ravies de vous transmettre leur savoir-faire \n\n\n\nPlus d’informations sur la page “Pour les enfants”
URL:https://www.cercleceltiquederennes.org/event/atelier-de-broderie-journees-enfant/
LOCATION:Cercle celtique de Rennes\, 26 avenue Charles Tillon\, Rennes\, France\, France
CATEGORIES:Pour les enfants,Stage
ATTACH;FMTTYPE=image/png:https://www.cercleceltiquederennes.org/wp-content/uploads/2025/06/5.png
END:VEVENT
BEGIN:VEVENT
DTSTART;TZID=Europe/Paris:20250722T090000
DTEND;TZID=Europe/Paris:20250724T170000
DTSTAMP:20260423T230411
CREATED:20250625T152101Z
LAST-MODIFIED:20250625T152619Z
UID:10000268-1753174800-1753376400@www.cercleceltiquederennes.org
SUMMARY:Danse bretonne - Journée enfants
DESCRIPTION:Venez pratiquer la danse bretonne et apprendre une jolie chorégraphie avec Céline. 2 jours d’atelier pour découvrir ou améliorer votre pas de danse \n\n\n\nPlus d’information sur la page “Pour les enfants”
URL:https://www.cercleceltiquederennes.org/event/danse-bretonne-journee-enfants/
LOCATION:Cercle celtique de Rennes\, 26 avenue Charles Tillon\, Rennes\, France\, France
CATEGORIES:Pour les enfants,Stage
ATTACH;FMTTYPE=image/png:https://www.cercleceltiquederennes.org/wp-content/uploads/2025/06/4.png
END:VEVENT
BEGIN:VEVENT
DTSTART;TZID=Europe/Paris:20250715T090000
DTEND;TZID=Europe/Paris:20250717T170000
DTSTAMP:20260423T230411
CREATED:20250625T151608Z
LAST-MODIFIED:20250625T152701Z
UID:10000267-1752570000-1752771600@www.cercleceltiquederennes.org
SUMMARY:Musique d'ensemble - Journée enfant
DESCRIPTION:Kelian va vous apprendre des morceaux bretons et irlandais pendant ces deux journées. Une restitution aura lieu en fin de journée et le vendredi sur la scène du Kenleur Tour.Le jeudi\, les enfants joueront avec les stagiaires de Morag\, violoniste écossaise \n\n\n\nPlus d’informations sur la page “Pour les enfants”
URL:https://www.cercleceltiquederennes.org/event/musique-densemble-journee-enfant/
LOCATION:Cercle celtique de Rennes\, 26 avenue Charles Tillon\, Rennes\, France\, France
CATEGORIES:Pour les enfants,Stage
ATTACH;FMTTYPE=image/png:https://www.cercleceltiquederennes.org/wp-content/uploads/2025/06/3.png
END:VEVENT
BEGIN:VEVENT
DTSTART;TZID=Europe/Paris:20250708T090000
DTEND;TZID=Europe/Paris:20250710T170000
DTSTAMP:20260423T230411
CREATED:20250625T150912Z
LAST-MODIFIED:20250625T152742Z
UID:10000266-1751965200-1752166800@www.cercleceltiquederennes.org
SUMMARY:Jardiner et cuisiner en breton - Journée enfants
DESCRIPTION:Le mardi et le jeudi\, nous proposons aux enfants de jardiner en breton. Ensuite\, nous cuisinerons de bons plats avec notre récolte et un succulent goûter.  \n\n\n\nPlus d’informations sur la page “Pour les enfants”
URL:https://www.cercleceltiquederennes.org/event/jardiner-et-cuisiner-en-breton-journee-enfants/
LOCATION:Cercle celtique de Rennes\, 26 avenue Charles Tillon\, Rennes\, France\, France
CATEGORIES:Pour les enfants,Stage
ATTACH;FMTTYPE=image/png:https://www.cercleceltiquederennes.org/wp-content/uploads/2025/06/2.png
END:VEVENT
BEGIN:VEVENT
DTSTART;TZID=Europe/Paris:20250524T093000
DTEND;TZID=Europe/Paris:20250524T170000
DTSTAMP:20260423T230411
CREATED:20241011T110838Z
LAST-MODIFIED:20241011T132706Z
UID:10000180-1748079000-1748106000@www.cercleceltiquederennes.org
SUMMARY:Stage de Gallo #4
DESCRIPTION:Stage de Gallo au Cercle celtique de Rennes
URL:https://www.cercleceltiquederennes.org/event/stage-de-gallo-4/
LOCATION:Cercle celtique de Rennes\, 26 avenue Charles Tillon\, Rennes\, France\, France
ATTACH;FMTTYPE=image/png:https://www.cercleceltiquederennes.org/wp-content/uploads/2024/10/2025_mai_stage-gallo4.png
END:VEVENT
BEGIN:VEVENT
DTSTART;TZID=Europe/Paris:20250329T093000
DTEND;TZID=Europe/Paris:20250329T170000
DTSTAMP:20260423T230411
CREATED:20241011T110114Z
LAST-MODIFIED:20250204T142014Z
UID:10000179-1743240600-1743267600@www.cercleceltiquederennes.org
SUMMARY:Stage de Gallo #3 : Paroles de gallo
DESCRIPTION:Stage de Gallo au Cercle Celtique de Rennes(Prochain stage programmé le 24 mai 2025) \n\n\n\n\n\n\n\nParoles de gallo : l’art de caozer dans le micro !  \n\n\n\nLes stagiaires de l’atelier gallo enfileront leur costume de journaliste pour aller à la rencontre d’un gallésant\, Maurice Langlois qui leur partagera son univers : les vieux métiers. L’interview sera diffusé sur les ondes de Plum’FM. \n\n\n\n\n\n\n\nEn partenariat avec la Granjagoul et Plum’FM
URL:https://www.cercleceltiquederennes.org/event/stage-de-gallo-3-2/
LOCATION:Cercle celtique de Rennes\, 26 avenue Charles Tillon\, Rennes\, France\, France
ATTACH;FMTTYPE=image/png:https://www.cercleceltiquederennes.org/wp-content/uploads/2024/10/20250329-stage-en-gallo-pour-le-mois-du-gallo.png
ORGANIZER;CN="Cercle Celtique de Rennes":MAILTO:contact@ccrennes.bzh
END:VEVENT
BEGIN:VEVENT
DTSTART;TZID=Europe/Paris:20250201T093000
DTEND;TZID=Europe/Paris:20250201T170000
DTSTAMP:20260423T230411
CREATED:20241011T105735Z
LAST-MODIFIED:20241011T132950Z
UID:10000178-1738402200-1738429200@www.cercleceltiquederennes.org
SUMMARY:Stage de Gallo #2
DESCRIPTION:Stage de Gallo au Cercle celtique de Rennes(Autres stages programmés le 29 mars et le 24 mai 2025)
URL:https://www.cercleceltiquederennes.org/event/stage-de-gallo-2-2/
LOCATION:Cercle celtique de Rennes\, 26 avenue Charles Tillon\, Rennes\, France\, France
ATTACH;FMTTYPE=image/png:https://www.cercleceltiquederennes.org/wp-content/uploads/2024/10/2025_fevr_satge-gallo2.png
END:VEVENT
BEGIN:VEVENT
DTSTART;TZID=Europe/Paris:20240911T163000
DTEND;TZID=Europe/Paris:20240911T180000
DTSTAMP:20260423T230411
CREATED:20240627T092721Z
LAST-MODIFIED:20240725T072302Z
UID:10000155-1726072200-1726077600@www.cercleceltiquederennes.org
SUMMARY:Porte ouverte Cercle Celtique Rennes - pour les professionnels de l'enfance
DESCRIPTION:Nous accueillerons les professionnels de l’enfance au Cercle celtique de Rennes pour présenter les actions qui peuvent être mise en oeuvre ensemble : projet scolaire\, intervention ponctuelle\, nos ressources…
URL:https://www.cercleceltiquederennes.org/event/porte-ouverte-cercle-celtique-rennes-pour-les-professionnels-de-lenfance/
LOCATION:Cercle celtique de Rennes\, 26 avenue Charles Tillon\, Rennes\, France\, France
CATEGORIES:Pour les enfants
ATTACH;FMTTYPE=image/png:https://www.cercleceltiquederennes.org/wp-content/uploads/2024/06/version-finale-affiche-2-1.png
END:VEVENT
BEGIN:VEVENT
DTSTART;TZID=Europe/Paris:20240904T200000
DTEND;TZID=Europe/Paris:20240904T220000
DTSTAMP:20260423T230411
CREATED:20240619T103544Z
LAST-MODIFIED:20240725T072916Z
UID:10000152-1725480000-1725487200@www.cercleceltiquederennes.org
SUMMARY:Faites de la danse
DESCRIPTION:
URL:https://www.cercleceltiquederennes.org/event/faites-de-la-danse/
LOCATION:Cercle celtique de Rennes\, 26 avenue Charles Tillon\, Rennes\, France\, France
ATTACH;FMTTYPE=image/png:https://www.cercleceltiquederennes.org/wp-content/uploads/2024/06/Affiche-faites-de-la-danse-final.png
END:VEVENT
BEGIN:VEVENT
DTSTART;TZID=Europe/Paris:20240622T093000
DTEND;TZID=Europe/Paris:20240622T170000
DTSTAMP:20260423T230411
CREATED:20240523T150152Z
LAST-MODIFIED:20240523T150253Z
UID:10000146-1719048600-1719075600@www.cercleceltiquederennes.org
SUMMARY:Stage de gallo
DESCRIPTION:Inscriptions en ligne via helloasso ou par mail à contact@cercleceltiquederennes.org ou au 0299543645
URL:https://www.cercleceltiquederennes.org/event/stage-de-gallo-2/
LOCATION:Cercle celtique de Rennes\, 26 avenue Charles Tillon\, Rennes\, France\, France
ATTACH;FMTTYPE=image/png:https://www.cercleceltiquederennes.org/wp-content/uploads/2024/05/Stage1.png
END:VEVENT
BEGIN:VEVENT
DTSTART;TZID=Europe/Paris:20231227T190000
DTEND;TZID=Europe/Paris:20231227T233000
DTSTAMP:20260423T230411
CREATED:20231130T123317Z
LAST-MODIFIED:20231130T124024Z
UID:10000070-1703703600-1703719800@www.cercleceltiquederennes.org
SUMMARY:veillée de noël
DESCRIPTION:Au programme : \n\n\n\n(Pour les petits et les grands !) \n\n\n\nTable partagée\, contes\, danse et musique !
URL:https://www.cercleceltiquederennes.org/event/veillee-de-noel/
LOCATION:Cercle celtique de Rennes\, 26 avenue Charles Tillon\, Rennes\, France\, France
ATTACH;FMTTYPE=image/jpeg:https://www.cercleceltiquederennes.org/wp-content/uploads/2023/11/soiree-de-noel.jpg
ORGANIZER;CN="Cercle Celtique de Rennes":MAILTO:contact@ccrennes.bzh
END:VEVENT
BEGIN:VEVENT
DTSTART;TZID=Europe/Paris:20231220T193000
DTEND;TZID=Europe/Paris:20231220T233000
DTSTAMP:20260423T230411
CREATED:20231130T123918Z
LAST-MODIFIED:20231130T123922Z
UID:10000071-1703100600-1703115000@www.cercleceltiquederennes.org
SUMMARY:bodadeg
DESCRIPTION:L’occasion pour tous les danseurs\, nouveaux ou plus expérimentés\, de partager le plaisir de danser avec des musiciens. N’hésitez pas à apporter boissons\, gourmandises\, chocolats ou fruits.
URL:https://www.cercleceltiquederennes.org/event/bodadeg-2/
LOCATION:Cercle celtique de Rennes\, 26 avenue Charles Tillon\, Rennes\, France\, France
ATTACH;FMTTYPE=image/jpeg:https://www.cercleceltiquederennes.org/wp-content/uploads/2023/11/Bodadeg.jpg
ORGANIZER;CN="Cercle Celtique de Rennes":MAILTO:contact@ccrennes.bzh
END:VEVENT
BEGIN:VEVENT
DTSTART;TZID=Europe/Paris:20231214T183000
DTEND;TZID=Europe/Paris:20231214T233000
DTSTAMP:20260423T230411
CREATED:20231201T111036Z
LAST-MODIFIED:20231201T111037Z
UID:10000072-1702578600-1702596600@www.cercleceltiquederennes.org
SUMMARY:dernier bar asso
DESCRIPTION:Pour le dernier bar asso de l’année\, le Cercle Celtique organise une soirée Jam avec les sonneurs et accordéonistes. S’y associeront également les musiciens de l’association “la balette saucisse”. Une belle soirée en perspective!
URL:https://www.cercleceltiquederennes.org/event/dernier-bar-asso/
LOCATION:Cercle celtique de Rennes\, 26 avenue Charles Tillon\, Rennes\, France\, France
CATEGORIES:Bar asso
ATTACH;FMTTYPE=image/png:https://www.cercleceltiquederennes.org/wp-content/uploads/2023/12/bar-asso-jam.png
ORGANIZER;CN="Cercle Celtique de Rennes":MAILTO:contact@ccrennes.bzh
END:VEVENT
BEGIN:VEVENT
DTSTART;TZID=Europe/Paris:20231209T150000
DTEND;TZID=Europe/Paris:20231209T233000
DTSTAMP:20260423T230411
CREATED:20231130T122106Z
LAST-MODIFIED:20231130T124134Z
UID:10000069-1702134000-1702164600@www.cercleceltiquederennes.org
SUMMARY:soirée crêpes et galettes
DESCRIPTION:Au programme : \n\n\n\n15h : atelier de danse gratuit \n\n\n\n18h : répétition ouverte à tous de la compagnie Astour du cercle celtique de Rennes \n\n\n\n19h : repas : crêpes\, galettes et moment convivial avec jeux de sociétés (sur inscription\, 8 euros)
URL:https://www.cercleceltiquederennes.org/event/soiree-crepes-et-galettes/
LOCATION:Cercle celtique de Rennes\, 26 avenue Charles Tillon\, Rennes\, France\, France
ATTACH;FMTTYPE=image/jpeg:https://www.cercleceltiquederennes.org/wp-content/uploads/2023/11/soiree-crepes-et-galettes.jpg
ORGANIZER;CN="Cercle Celtique de Rennes":MAILTO:contact@ccrennes.bzh
END:VEVENT
BEGIN:VEVENT
DTSTART;TZID=Europe/Paris:20231115T200000
DTEND;TZID=Europe/Paris:20231115T233000
DTSTAMP:20260423T230411
CREATED:20231025T095808Z
LAST-MODIFIED:20231025T095809Z
UID:10000066-1700078400-1700091000@www.cercleceltiquederennes.org
SUMMARY:initiation à la danse
DESCRIPTION:Dans le cadre de Yaouank une initiation à la danse va avoir lieu au Parquet de bal. Venez gratuitement participer à cette soirée à partir de 20h00 pour danser.
URL:https://www.cercleceltiquederennes.org/event/initiation-a-la-danse-2/
LOCATION:Cercle celtique de Rennes\, 26 avenue Charles Tillon\, Rennes\, France\, France
ATTACH;FMTTYPE=application/pdf:https://www.cercleceltiquederennes.org/wp-content/uploads/2023/10/initiation-1.pdf
END:VEVENT
BEGIN:VEVENT
DTSTART;TZID=Europe/Paris:20231108T180000
DTEND;TZID=Europe/Paris:20231108T233000
DTSTAMP:20260423T230411
CREATED:20231025T095445Z
LAST-MODIFIED:20231025T095601Z
UID:10000065-1699466400-1699486200@www.cercleceltiquederennes.org
SUMMARY:initiation à la danse
DESCRIPTION:Dans le cadre de Yaouank une initiation à la danse va avoir lieu au Parquet de bal. Venez gratuitement participer à cette soirée à partir de 18h00 avec un bar associatif et des jeux.
URL:https://www.cercleceltiquederennes.org/event/initiation-a-la-danse/
LOCATION:Cercle celtique de Rennes\, 26 avenue Charles Tillon\, Rennes\, France\, France
ATTACH;FMTTYPE=application/pdf:https://www.cercleceltiquederennes.org/wp-content/uploads/2023/10/initiation.pdf
END:VEVENT
BEGIN:VEVENT
DTSTART;TZID=Europe/Paris:20231107T140000
DTEND;TZID=Europe/Paris:20231107T233000
DTSTAMP:20260423T230411
CREATED:20231025T085830Z
LAST-MODIFIED:20231025T085831Z
UID:10000064-1699365600-1699399800@www.cercleceltiquederennes.org
SUMMARY:deuxième fest-deiz veprée dansée
DESCRIPTION:Chaque premier mardi du mois à partir de 14h entre octobre et juin\, venez danser à la vêprée du Cercle celtique de Rennes. \n\n\n\nCafé et thé vous sont offerts. \n\n\n\nApporter juste un gâteau ou/et une boisson pour agrémenter cette après-midi dansée. \n\n\n\nL’après-midi est ouverte à tous\, n’hésitez pas à venir nous rejoindre et parlez-en autour de vous \n\n\n\nLa scène est également ouverte à tout musicien ou chanteur désireux de participer à l’animation de cette après-midi. \n\n\n\nN’hésitez pas à nous contacter !!!
URL:https://www.cercleceltiquederennes.org/event/deuxieme-fest-deiz-vepree-dansee-2/
LOCATION:Cercle celtique de Rennes\, 26 avenue Charles Tillon\, Rennes\, France\, France
CATEGORIES:Fest diez
ATTACH;FMTTYPE=application/pdf:https://www.cercleceltiquederennes.org/wp-content/uploads/2023/10/VEPREE-1.pdf_2-1.pdf-1.pdf
END:VEVENT
BEGIN:VEVENT
DTSTART;TZID=Europe/Paris:20231104T090000
DTEND;TZID=Europe/Paris:20231104T180000
DTSTAMP:20260423T230411
CREATED:20230925T112329Z
LAST-MODIFIED:20230925T112548Z
UID:10000060-1699088400-1699120800@www.cercleceltiquederennes.org
SUMMARY:yaouankiz - stage de musique
DESCRIPTION:Le rendez-vous des musiciens et des musiciennes.   Cliquez sur le titre \n\n\n\n\n\n\n\nPour s’inscrire\, cliquez sur l’image
URL:https://www.cercleceltiquederennes.org/event/yaouankiz-stage-de-musique/
LOCATION:Cercle celtique de Rennes\, 26 avenue Charles Tillon\, Rennes\, France\, France
CATEGORIES:Pour les enfants,Stage
END:VEVENT
BEGIN:VEVENT
DTSTART;TZID=Europe/Paris:20231103T090000
DTEND;TZID=Europe/Paris:20231103T170000
DTSTAMP:20260423T230411
CREATED:20230925T112057Z
LAST-MODIFIED:20230925T112058Z
UID:10000059-1699002000-1699030800@www.cercleceltiquederennes.org
SUMMARY:yaouankiz - stage de danse et éveil musical
DESCRIPTION:Le rendez-vous des danseuses et des danseurs.  Cliquez sur le titre \n\n\n\n\n\n\n\nPour s’inscrire\, cliquez sur l’image
URL:https://www.cercleceltiquederennes.org/event/yaouankiz-stage-de-danse-et-eveil-musical/
LOCATION:Cercle celtique de Rennes\, 26 avenue Charles Tillon\, Rennes\, France\, France
CATEGORIES:Pour les enfants,Stage
END:VEVENT
BEGIN:VEVENT
DTSTART;TZID=Europe/Paris:20231103T090000
DTEND;TZID=Europe/Paris:20231103T170000
DTSTAMP:20260423T230411
CREATED:20230925T111141Z
LAST-MODIFIED:20230925T111411Z
UID:10000058-1699002000-1699030800@www.cercleceltiquederennes.org
SUMMARY:yaouankiz - Stage de Broderie
DESCRIPTION:Le rendez-vous des brodeurs et des brodeuses   Cliquez sur le titre                                               \n\n\n\n\n\n\n\nPour s’inscrire\, cliquez sur l’image
URL:https://www.cercleceltiquederennes.org/event/yaouankiz-stage-de-broderie/
LOCATION:Cercle celtique de Rennes\, 26 avenue Charles Tillon\, Rennes\, France\, France
CATEGORIES:Pour les enfants,Stage
END:VEVENT
BEGIN:VEVENT
DTSTART;TZID=Europe/Paris:20231102T183000
DTEND;TZID=Europe/Paris:20231102T200000
DTSTAMP:20260423T230411
CREATED:20230823T122651Z
LAST-MODIFIED:20231031T101346Z
UID:10000034-1698949800-1698955200@www.cercleceltiquederennes.org
SUMMARY:yaouankiz - veillée contée (bar asso)
DESCRIPTION:Poussez les portes du Cercle pour écouter des histoires au pied de la cheminée et par la suite continuez la soirée avec un bar asso.
URL:https://www.cercleceltiquederennes.org/event/veillee-contee/
LOCATION:Cercle celtique de Rennes\, 26 avenue Charles Tillon\, Rennes\, France\, France
CATEGORIES:Pour les enfants
END:VEVENT
BEGIN:VEVENT
DTSTART;TZID=Europe/Paris:20231102T090000
DTEND;TZID=Europe/Paris:20231102T170000
DTSTAMP:20260423T230411
CREATED:20230925T105604Z
LAST-MODIFIED:20230925T111455Z
UID:10000057-1698915600-1698944400@www.cercleceltiquederennes.org
SUMMARY:yaouankiz - découverte de l'Ecosse
DESCRIPTION:Prêt à voyager ? Direction Ecosse    Cliquez sur le titre \n\n\n\n\n\n\n\nPour s’inscrire\, cliquez sur l’image
URL:https://www.cercleceltiquederennes.org/event/yaouankiz-decouverte-de-lecosse/
LOCATION:Cercle celtique de Rennes\, 26 avenue Charles Tillon\, Rennes\, France\, France
CATEGORIES:Pour les enfants
END:VEVENT
BEGIN:VEVENT
DTSTART;TZID=Europe/Paris:20231031T090000
DTEND;TZID=Europe/Paris:20231031T170000
DTSTAMP:20260423T230411
CREATED:20230925T104458Z
LAST-MODIFIED:20230925T111615Z
UID:10000056-1698742800-1698771600@www.cercleceltiquederennes.org
SUMMARY:yaouankiz - un devezh gant Asterix hag e vignoned
DESCRIPTION:Deus da fardañ gwastell Asterix / Venez cuisiner le gâteau d’Astérix    Klik war an titl / Cliquez sur le titre \n\n\n\n\n\n\n\nEn enskrivañ\, klik war ar skeudenn / Pour s’inscrire\, cliquez sur l’image
URL:https://www.cercleceltiquederennes.org/event/yaouankiz-un-devezh-gant-asterix-hag-e-vignoned/
LOCATION:Cercle celtique de Rennes\, 26 avenue Charles Tillon\, Rennes\, France\, France
CATEGORIES:Pour les enfants
END:VEVENT
BEGIN:VEVENT
DTSTART;TZID=Europe/Paris:20231030T090000
DTEND;TZID=Europe/Paris:20231030T170000
DTSTAMP:20260423T230411
CREATED:20230925T103432Z
LAST-MODIFIED:20230925T111643Z
UID:10000055-1698656400-1698685200@www.cercleceltiquederennes.org
SUMMARY:yaouankiz - Mozaik e pep lec'h
DESCRIPTION:Un devezh tro-dro ar mozaik / Une journée mosaïque      Klik war an titl / Cliquez sur le titre \n\n\n\n\n\n\n\nEn enskrivañ\, klik war ar skeudenn / Pour s’inscrire\, cliquez sur l’image
URL:https://www.cercleceltiquederennes.org/event/yaouankiz-mozaik-e-pep-lech/
LOCATION:Cercle celtique de Rennes\, 26 avenue Charles Tillon\, Rennes\, France\, France
CATEGORIES:Pour les enfants
END:VEVENT
BEGIN:VEVENT
DTSTART;TZID=Europe/Paris:20231025T200000
DTEND;TZID=Europe/Paris:20231025T233000
DTSTAMP:20260423T230411
CREATED:20231024T095227Z
LAST-MODIFIED:20231024T095228Z
UID:10000063-1698264000-1698276600@www.cercleceltiquederennes.org
SUMMARY:soirée d'accueil\, sairee de bône erive a tertous
DESCRIPTION:Ce RDV est fait pour accueillir tous les nouveaux membres du Cercle Celtique de Rennes\, pour leur présenter le projet associatif en cours et répondre à d’éventuelles questions.Mais aussi l’occasion pour ceux qui ne connaissent pas\, de venir découvrir notre projet et nos activités.D’autant que cette soirée sera animée par les danseurs et les musiciens de la Compagnie Astour que vous pourrez donc découvrir par la même occasion.Pour toutes précisions\, vous pouvez adresser un mail à:contact@cercleceltiquederennes.org
URL:https://www.cercleceltiquederennes.org/event/soiree-daccueil-sairee-de-bone-erive-a-tertous/
LOCATION:Cercle celtique de Rennes\, 26 avenue Charles Tillon\, Rennes\, France\, France
ATTACH;FMTTYPE=application/pdf:https://www.cercleceltiquederennes.org/wp-content/uploads/2023/10/25.pdf
ORGANIZER;CN="Cercle Celtique de Rennes":MAILTO:contact@ccrennes.bzh
END:VEVENT
BEGIN:VEVENT
DTSTART;TZID=Europe/Paris:20230727T090000
DTEND;TZID=Europe/Paris:20230727T170000
DTSTAMP:20260423T230411
CREATED:20230628T143721Z
LAST-MODIFIED:20230630T064149Z
UID:10000021-1690448400-1690477200@www.cercleceltiquederennes.org
SUMMARY:Stage de musique celtique avec Morag Johnston du 27 au 30 juillet
DESCRIPTION:“Je suis heureuse de pouvoir présenter le premier stage d’été Scottish Whispers ! Dans ce cours\, vous apprendrez des airs des Shetland\, d’Écosse et d’Irlande. Pour ce faire\, nous couvrirons une large gamme d’activités musicales. Nous apprendrons des airs à l’oreille\, lirons des airs\, et jouerons également ensemble en duos. Ensuite\, nous prendrons quelques-uns des airs et les jouerons pour des danseurs dans un ceilidh au Cercle Celtique de Rennes. Ce cours est ouvert aux instrumentistes de tous horizons\, et aucune connaissance préalable de la musique folklorique n’est requise. Comme toujours\, vous aurez des partitions pour pouvoir travailler les airs une fois le cours terminé.”Tarif : 350 euros (ou sans cours particulier 310)Langue : le cours sera en anglais et en français.Séance individuelle / cours particulier : il s’agit d’une séanceprivée qui répondra à tout ce dont vous avez besoin. Celapeut être une leçon pour travailler votre vitesse de jeu oucela peut être une heure à perfectionner les morceaux quevous aimez.Inscriptions: www.moragjohnston.net
URL:https://www.cercleceltiquederennes.org/event/stage-de-musique-celtique-avec-morag-johnston-du-26-au-30-juillet/
LOCATION:Cercle celtique de Rennes\, 26 avenue Charles Tillon\, Rennes\, France\, France
CATEGORIES:Parquet de bal,Stage
ATTACH;FMTTYPE=image/jpeg:https://www.cercleceltiquederennes.org/wp-content/uploads/2023/06/stage-ecosse.jpg
END:VEVENT
END:VCALENDAR