BEGIN:VCALENDAR
VERSION:2.0
PRODID:-//Cercle celtique de Rennes - ECPv6.13.2.1//NONSGML v1.0//EN
CALSCALE:GREGORIAN
METHOD:PUBLISH
X-WR-CALNAME:Cercle celtique de Rennes
X-ORIGINAL-URL:https://www.cercleceltiquederennes.org
X-WR-CALDESC:Évènements pour Cercle celtique de Rennes
REFRESH-INTERVAL;VALUE=DURATION:PT1H
X-Robots-Tag:noindex
X-PUBLISHED-TTL:PT1H
BEGIN:VTIMEZONE
TZID:Europe/Paris
BEGIN:DAYLIGHT
TZOFFSETFROM:+0100
TZOFFSETTO:+0200
TZNAME:CEST
DTSTART:20230326T010000
END:DAYLIGHT
BEGIN:STANDARD
TZOFFSETFROM:+0200
TZOFFSETTO:+0100
TZNAME:CET
DTSTART:20231029T010000
END:STANDARD
BEGIN:DAYLIGHT
TZOFFSETFROM:+0100
TZOFFSETTO:+0200
TZNAME:CEST
DTSTART:20240331T010000
END:DAYLIGHT
BEGIN:STANDARD
TZOFFSETFROM:+0200
TZOFFSETTO:+0100
TZNAME:CET
DTSTART:20241027T010000
END:STANDARD
END:VTIMEZONE
BEGIN:VEVENT
DTSTART;TZID=Europe/Paris:20240604T140000
DTEND;TZID=Europe/Paris:20240604T140000
DTSTAMP:20260424T134106
CREATED:20240522T151901Z
LAST-MODIFIED:20240522T153758Z
UID:10000140-1717509600-1717509600@www.cercleceltiquederennes.org
SUMMARY:Vêprée Dansée
DESCRIPTION:Chaque premier mardi du mois à partir de 14h entre octobre et juin\, venez danser à la vêprée du Cercle celtique de Rennes. \n\n\n\nCafé et thé vous sont offerts. \n\n\n\nApporter juste un gâteau ou/et une boisson pour agrémenter cette après-midi dansée. \n\n\n\nL’après-midi est ouverte à tous\, n’hésitez pas à venir nous rejoindre et parlez-en autour de vous \n\n\n\nLa scène est également ouverte à tout musicien ou chanteur désireux de participer à l’animation de cette après-midi.
URL:https://www.cercleceltiquederennes.org/event/vepree-dansee-5/
LOCATION:salle de danse\, Ferme de la harpe
CATEGORIES:Bal trad,Fest diez
ATTACH;FMTTYPE=image/png:https://www.cercleceltiquederennes.org/wp-content/uploads/2024/05/VEPREE.pdf_2.pdf.png
END:VEVENT
BEGIN:VEVENT
DTSTART;TZID=Europe/Paris:20230529T140000
DTEND;TZID=Europe/Paris:20230529T180000
DTSTAMP:20260424T134106
CREATED:20230506T132758Z
LAST-MODIFIED:20230516T152306Z
UID:10000010-1685368800-1685383200@www.cercleceltiquederennes.org
SUMMARY:Fest diez - Vesprée dansée
DESCRIPTION:Scène  ouverte à tout musicien ou chanteur désireux d’animer cet après-midi !Venez danser et/ou jouer de la musique dans les locaux du Cercle Celtique  ! \n\n\n\nRendez-vous  dès 14h00 pour un agréable après-midi. N’hésitez pas à ramener quelque chose à boire et/ou à manger. Des crêpes\, un gâteau\, une bouteille\, des fruits\, du chocolat… Un café-biblio sera également ouvert sur place.Et n’hésitez pas à y convier vos amis.informations:02.99.54.36.45contact@cercleceltiquederennes.org
URL:https://www.cercleceltiquederennes.org/event/fest-diez-vespree-dansee/
LOCATION:salle de danse\, Ferme de la harpe
CATEGORIES:Fest diez
ATTACH;FMTTYPE=image/jpeg:https://www.cercleceltiquederennes.org/wp-content/uploads/2023/04/25-aout-mercredi-de-la-Harpe-84-2048x1367-1.jpg
END:VEVENT
END:VCALENDAR