BEGIN:VCALENDAR
VERSION:2.0
PRODID:-//Cercle celtique de Rennes - ECPv6.13.2.1//NONSGML v1.0//EN
CALSCALE:GREGORIAN
METHOD:PUBLISH
X-WR-CALNAME:Cercle celtique de Rennes
X-ORIGINAL-URL:https://www.cercleceltiquederennes.org
X-WR-CALDESC:Évènements pour Cercle celtique de Rennes
REFRESH-INTERVAL;VALUE=DURATION:PT1H
X-Robots-Tag:noindex
X-PUBLISHED-TTL:PT1H
BEGIN:VTIMEZONE
TZID:Europe/Paris
BEGIN:DAYLIGHT
TZOFFSETFROM:+0100
TZOFFSETTO:+0200
TZNAME:CEST
DTSTART:20230326T010000
END:DAYLIGHT
BEGIN:STANDARD
TZOFFSETFROM:+0200
TZOFFSETTO:+0100
TZNAME:CET
DTSTART:20231029T010000
END:STANDARD
END:VTIMEZONE
BEGIN:VEVENT
DTSTART;TZID=Europe/Paris:20231115T200000
DTEND;TZID=Europe/Paris:20231115T233000
DTSTAMP:20260424T123922
CREATED:20231025T095808Z
LAST-MODIFIED:20231025T095809Z
UID:10000066-1700078400-1700091000@www.cercleceltiquederennes.org
SUMMARY:initiation à la danse
DESCRIPTION:Dans le cadre de Yaouank une initiation à la danse va avoir lieu au Parquet de bal. Venez gratuitement participer à cette soirée à partir de 20h00 pour danser.
URL:https://www.cercleceltiquederennes.org/event/initiation-a-la-danse-2/
LOCATION:Cercle celtique de Rennes\, 26 avenue Charles Tillon\, Rennes\, France\, France
ATTACH;FMTTYPE=application/pdf:https://www.cercleceltiquederennes.org/wp-content/uploads/2023/10/initiation-1.pdf
END:VEVENT
BEGIN:VEVENT
DTSTART;TZID=Europe/Paris:20231108T180000
DTEND;TZID=Europe/Paris:20231108T233000
DTSTAMP:20260424T123922
CREATED:20231025T095445Z
LAST-MODIFIED:20231025T095601Z
UID:10000065-1699466400-1699486200@www.cercleceltiquederennes.org
SUMMARY:initiation à la danse
DESCRIPTION:Dans le cadre de Yaouank une initiation à la danse va avoir lieu au Parquet de bal. Venez gratuitement participer à cette soirée à partir de 18h00 avec un bar associatif et des jeux.
URL:https://www.cercleceltiquederennes.org/event/initiation-a-la-danse/
LOCATION:Cercle celtique de Rennes\, 26 avenue Charles Tillon\, Rennes\, France\, France
ATTACH;FMTTYPE=application/pdf:https://www.cercleceltiquederennes.org/wp-content/uploads/2023/10/initiation.pdf
END:VEVENT
BEGIN:VEVENT
DTSTART;TZID=Europe/Paris:20231107T140000
DTEND;TZID=Europe/Paris:20231107T233000
DTSTAMP:20260424T123922
CREATED:20231025T085830Z
LAST-MODIFIED:20231025T085831Z
UID:10000064-1699365600-1699399800@www.cercleceltiquederennes.org
SUMMARY:deuxième fest-deiz veprée dansée
DESCRIPTION:Chaque premier mardi du mois à partir de 14h entre octobre et juin\, venez danser à la vêprée du Cercle celtique de Rennes. \n\n\n\nCafé et thé vous sont offerts. \n\n\n\nApporter juste un gâteau ou/et une boisson pour agrémenter cette après-midi dansée. \n\n\n\nL’après-midi est ouverte à tous\, n’hésitez pas à venir nous rejoindre et parlez-en autour de vous \n\n\n\nLa scène est également ouverte à tout musicien ou chanteur désireux de participer à l’animation de cette après-midi. \n\n\n\nN’hésitez pas à nous contacter !!!
URL:https://www.cercleceltiquederennes.org/event/deuxieme-fest-deiz-vepree-dansee-2/
LOCATION:Cercle celtique de Rennes\, 26 avenue Charles Tillon\, Rennes\, France\, France
CATEGORIES:Fest diez
ATTACH;FMTTYPE=application/pdf:https://www.cercleceltiquederennes.org/wp-content/uploads/2023/10/VEPREE-1.pdf_2-1.pdf-1.pdf
END:VEVENT
BEGIN:VEVENT
DTSTART;TZID=Europe/Paris:20231104T090000
DTEND;TZID=Europe/Paris:20231104T180000
DTSTAMP:20260424T123922
CREATED:20230925T112329Z
LAST-MODIFIED:20230925T112548Z
UID:10000060-1699088400-1699120800@www.cercleceltiquederennes.org
SUMMARY:yaouankiz - stage de musique
DESCRIPTION:Le rendez-vous des musiciens et des musiciennes.   Cliquez sur le titre \n\n\n\n\n\n\n\nPour s’inscrire\, cliquez sur l’image
URL:https://www.cercleceltiquederennes.org/event/yaouankiz-stage-de-musique/
LOCATION:Cercle celtique de Rennes\, 26 avenue Charles Tillon\, Rennes\, France\, France
CATEGORIES:Pour les enfants,Stage
END:VEVENT
BEGIN:VEVENT
DTSTART;TZID=Europe/Paris:20231103T090000
DTEND;TZID=Europe/Paris:20231103T170000
DTSTAMP:20260424T123922
CREATED:20230925T112057Z
LAST-MODIFIED:20230925T112058Z
UID:10000059-1699002000-1699030800@www.cercleceltiquederennes.org
SUMMARY:yaouankiz - stage de danse et éveil musical
DESCRIPTION:Le rendez-vous des danseuses et des danseurs.  Cliquez sur le titre \n\n\n\n\n\n\n\nPour s’inscrire\, cliquez sur l’image
URL:https://www.cercleceltiquederennes.org/event/yaouankiz-stage-de-danse-et-eveil-musical/
LOCATION:Cercle celtique de Rennes\, 26 avenue Charles Tillon\, Rennes\, France\, France
CATEGORIES:Pour les enfants,Stage
END:VEVENT
BEGIN:VEVENT
DTSTART;TZID=Europe/Paris:20231103T090000
DTEND;TZID=Europe/Paris:20231103T170000
DTSTAMP:20260424T123922
CREATED:20230925T111141Z
LAST-MODIFIED:20230925T111411Z
UID:10000058-1699002000-1699030800@www.cercleceltiquederennes.org
SUMMARY:yaouankiz - Stage de Broderie
DESCRIPTION:Le rendez-vous des brodeurs et des brodeuses   Cliquez sur le titre                                               \n\n\n\n\n\n\n\nPour s’inscrire\, cliquez sur l’image
URL:https://www.cercleceltiquederennes.org/event/yaouankiz-stage-de-broderie/
LOCATION:Cercle celtique de Rennes\, 26 avenue Charles Tillon\, Rennes\, France\, France
CATEGORIES:Pour les enfants,Stage
END:VEVENT
BEGIN:VEVENT
DTSTART;TZID=Europe/Paris:20231102T090000
DTEND;TZID=Europe/Paris:20231102T170000
DTSTAMP:20260424T123922
CREATED:20230925T105604Z
LAST-MODIFIED:20230925T111455Z
UID:10000057-1698915600-1698944400@www.cercleceltiquederennes.org
SUMMARY:yaouankiz - découverte de l'Ecosse
DESCRIPTION:Prêt à voyager ? Direction Ecosse    Cliquez sur le titre \n\n\n\n\n\n\n\nPour s’inscrire\, cliquez sur l’image
URL:https://www.cercleceltiquederennes.org/event/yaouankiz-decouverte-de-lecosse/
LOCATION:Cercle celtique de Rennes\, 26 avenue Charles Tillon\, Rennes\, France\, France
CATEGORIES:Pour les enfants
END:VEVENT
BEGIN:VEVENT
DTSTART;TZID=Europe/Paris:20231031T090000
DTEND;TZID=Europe/Paris:20231031T170000
DTSTAMP:20260424T123922
CREATED:20230925T104458Z
LAST-MODIFIED:20230925T111615Z
UID:10000056-1698742800-1698771600@www.cercleceltiquederennes.org
SUMMARY:yaouankiz - un devezh gant Asterix hag e vignoned
DESCRIPTION:Deus da fardañ gwastell Asterix / Venez cuisiner le gâteau d’Astérix    Klik war an titl / Cliquez sur le titre \n\n\n\n\n\n\n\nEn enskrivañ\, klik war ar skeudenn / Pour s’inscrire\, cliquez sur l’image
URL:https://www.cercleceltiquederennes.org/event/yaouankiz-un-devezh-gant-asterix-hag-e-vignoned/
LOCATION:Cercle celtique de Rennes\, 26 avenue Charles Tillon\, Rennes\, France\, France
CATEGORIES:Pour les enfants
END:VEVENT
BEGIN:VEVENT
DTSTART;TZID=Europe/Paris:20231030T090000
DTEND;TZID=Europe/Paris:20231030T170000
DTSTAMP:20260424T123922
CREATED:20230925T103432Z
LAST-MODIFIED:20230925T111643Z
UID:10000055-1698656400-1698685200@www.cercleceltiquederennes.org
SUMMARY:yaouankiz - Mozaik e pep lec'h
DESCRIPTION:Un devezh tro-dro ar mozaik / Une journée mosaïque      Klik war an titl / Cliquez sur le titre \n\n\n\n\n\n\n\nEn enskrivañ\, klik war ar skeudenn / Pour s’inscrire\, cliquez sur l’image
URL:https://www.cercleceltiquederennes.org/event/yaouankiz-mozaik-e-pep-lech/
LOCATION:Cercle celtique de Rennes\, 26 avenue Charles Tillon\, Rennes\, France\, France
CATEGORIES:Pour les enfants
END:VEVENT
BEGIN:VEVENT
DTSTART;TZID=Europe/Paris:20230909T100000
DTEND;TZID=Europe/Paris:20230909T180000
DTSTAMP:20260424T123922
CREATED:20230822T143344Z
LAST-MODIFIED:20230906T074051Z
UID:10000024-1694253600-1694282400@www.cercleceltiquederennes.org
SUMMARY:portes ouvertes du cercle celtique
DESCRIPTION:La rentrée sera festive et conviviale avec le Cercle Celtique et la compagnie ASTOUR \n\n\n\nDe nombreux ateliers vous seront présentés\, des Festou-noz\, des stages\, … \n\n\n\nVenez découvrir les projets à venir. \n\n\n\nEn attendant\, n’hésitez pas à aller faire un petit tour sur le site du cercle cetltique.   
URL:https://www.cercleceltiquederennes.org/event/portes-ouvertes-du-cercle-celtique/
ATTACH;FMTTYPE=image/png:https://www.cercleceltiquederennes.org/wp-content/uploads/2023/07/afficherentree2023.png
END:VEVENT
BEGIN:VEVENT
DTSTART;TZID=Europe/Paris:20230902T203000
DTEND;TZID=Europe/Paris:20230902T233000
DTSTAMP:20260424T123922
CREATED:20230830T090004Z
LAST-MODIFIED:20230830T090006Z
UID:10000037-1693686600-1693697400@www.cercleceltiquederennes.org
SUMMARY:CONCERT DUO CHANCEY - BOEKHOORN
DESCRIPTION:Le Duo Chancey – Boekhoorn propose des concerts de musiques traditionnelles et anciennes d’Écosse et d’Irlande principalement\, avant tout sur des instruments anciens. La musique de la tradition écossaise-irlandaise est très populaire aujourd’hui\, et ces concerts retracent les racines cachées de ce répertoire.
URL:https://www.cercleceltiquederennes.org/event/concert-duo-chancey-boekhoorn/
ATTACH;FMTTYPE=image/jpeg:https://www.cercleceltiquederennes.org/wp-content/uploads/2023/08/Concert-Duo-Tina-Dimitri-Rennes_page-0001.jpg
END:VEVENT
BEGIN:VEVENT
DTSTART;TZID=Europe/Paris:20230901T203000
DTEND;TZID=Europe/Paris:20230901T233000
DTSTAMP:20260424T123922
CREATED:20230830T085309Z
LAST-MODIFIED:20230830T085311Z
UID:10000036-1693600200-1693611000@www.cercleceltiquederennes.org
SUMMARY:SOIRÉE D'ACCUEIL AVEC LA COMPAGNIE ASTOUR
DESCRIPTION:De part son nom ASTOUR qui signifie Maintenant en Gallo\, La compagnie s’investit totalement dans le domaine de la création Artistique. \n\n\n\nNourrit par la matière culturelle de Bretagne et plus spécifiquement celle du pays Gallo\, elle en assure la transmission et en tire les thèmes pour ces différentes créations.
URL:https://www.cercleceltiquederennes.org/event/soiree-daccueil-avec-la-compagnie-astour/
ATTACH;FMTTYPE=image/jpeg:https://www.cercleceltiquederennes.org/wp-content/uploads/2023/08/soiree-accueil-compagnie-astour_44561.jpg
END:VEVENT
BEGIN:VEVENT
DTSTART;TZID=Europe/Paris:20230630T200000
DTEND;TZID=Europe/Paris:20230630T233000
DTSTAMP:20260424T123922
CREATED:20230628T133736Z
LAST-MODIFIED:20230629T220217Z
UID:10000018-1688155200-1688167800@www.cercleceltiquederennes.org
SUMMARY:FÊTE DE FIN D'ANNÉE DES ATELIERS DU CERCLE CELTIQUE
DESCRIPTION:
URL:https://www.cercleceltiquederennes.org/event/fete-de-fin-dannee-des-ateliers-du-cercle-celtique/
CATEGORIES:Fest noz,Parquet de bal
ATTACH;FMTTYPE=image/png:https://www.cercleceltiquederennes.org/wp-content/uploads/2023/06/Fete-de-fin-dannee23.png
END:VEVENT
END:VCALENDAR