BEGIN:VCALENDAR
VERSION:2.0
PRODID:-//Cercle celtique de Rennes - ECPv6.13.2.1//NONSGML v1.0//EN
CALSCALE:GREGORIAN
METHOD:PUBLISH
X-ORIGINAL-URL:https://www.cercleceltiquederennes.org
X-WR-CALDESC:Évènements pour Cercle celtique de Rennes
REFRESH-INTERVAL;VALUE=DURATION:PT1H
X-Robots-Tag:noindex
X-PUBLISHED-TTL:PT1H
BEGIN:VTIMEZONE
TZID:Europe/Paris
BEGIN:DAYLIGHT
TZOFFSETFROM:+0100
TZOFFSETTO:+0200
TZNAME:CEST
DTSTART:20230326T010000
END:DAYLIGHT
BEGIN:STANDARD
TZOFFSETFROM:+0200
TZOFFSETTO:+0100
TZNAME:CET
DTSTART:20231029T010000
END:STANDARD
END:VTIMEZONE
BEGIN:VEVENT
DTSTART;TZID=Europe/Paris:20230630T200000
DTEND;TZID=Europe/Paris:20230630T233000
DTSTAMP:20260424T141835
CREATED:20230628T133736Z
LAST-MODIFIED:20230629T220217Z
UID:10000018-1688155200-1688167800@www.cercleceltiquederennes.org
SUMMARY:FÊTE DE FIN D'ANNÉE DES ATELIERS DU CERCLE CELTIQUE
DESCRIPTION:
URL:https://www.cercleceltiquederennes.org/event/fete-de-fin-dannee-des-ateliers-du-cercle-celtique/
CATEGORIES:Fest noz,Parquet de bal
ATTACH;FMTTYPE=image/png:https://www.cercleceltiquederennes.org/wp-content/uploads/2023/06/Fete-de-fin-dannee23.png
END:VEVENT
END:VCALENDAR